BEGIN:VCALENDAR
VERSION:2.0
PRODID:-//Mairie de Quincieux - ECPv6.15.18//NONSGML v1.0//EN
CALSCALE:GREGORIAN
METHOD:PUBLISH
X-WR-CALNAME:Mairie de Quincieux
X-ORIGINAL-URL:https://www.quincieux.fr
X-WR-CALDESC:Évènements pour Mairie de Quincieux
REFRESH-INTERVAL;VALUE=DURATION:PT1H
X-Robots-Tag:noindex
X-PUBLISHED-TTL:PT1H
BEGIN:VTIMEZONE
TZID:Europe/Paris
BEGIN:DAYLIGHT
TZOFFSETFROM:+0100
TZOFFSETTO:+0200
TZNAME:CEST
DTSTART:20230326T010000
END:DAYLIGHT
BEGIN:STANDARD
TZOFFSETFROM:+0200
TZOFFSETTO:+0100
TZNAME:CET
DTSTART:20231029T010000
END:STANDARD
BEGIN:DAYLIGHT
TZOFFSETFROM:+0100
TZOFFSETTO:+0200
TZNAME:CEST
DTSTART:20240331T010000
END:DAYLIGHT
BEGIN:STANDARD
TZOFFSETFROM:+0200
TZOFFSETTO:+0100
TZNAME:CET
DTSTART:20241027T010000
END:STANDARD
BEGIN:DAYLIGHT
TZOFFSETFROM:+0100
TZOFFSETTO:+0200
TZNAME:CEST
DTSTART:20250330T010000
END:DAYLIGHT
BEGIN:STANDARD
TZOFFSETFROM:+0200
TZOFFSETTO:+0100
TZNAME:CET
DTSTART:20251026T010000
END:STANDARD
END:VTIMEZONE
BEGIN:VEVENT
DTSTART;TZID=Europe/Paris:20240404T190000
DTEND;TZID=Europe/Paris:20240404T203000
DTSTAMP:20260424T175241
CREATED:20240402T151159Z
LAST-MODIFIED:20240402T151159Z
UID:36722-1712257200-1712262600@www.quincieux.fr
SUMMARY:Film conférence - les Chauves-souris héros de la nuit !
DESCRIPTION:
URL:https://www.quincieux.fr/event/film-conference-les-chauves-souris-heros-de-la-nuit/
LOCATION:Saint Cyr au mont d’or\, Salle des Tours\, Saint Cyr au Mont d'Or
ATTACH;FMTTYPE=image/jpeg:https://www.quincieux.fr/wp-content/uploads/2024/04/2024-04-chauves-souris.jpg
END:VEVENT
BEGIN:VEVENT
DTSTART;TZID=Europe/Paris:20240405T200000
DTEND;TZID=Europe/Paris:20240405T220000
DTSTAMP:20260424T175241
CREATED:20240206T151417Z
LAST-MODIFIED:20240206T151448Z
UID:35768-1712347200-1712354400@www.quincieux.fr
SUMMARY:Assemblée générale
DESCRIPTION:
URL:https://www.quincieux.fr/event/assemblee-generale-18/
LOCATION:Salle Marcelle Lyonnet (Ancienne Poste)\, Route de Chasselay
END:VEVENT
BEGIN:VEVENT
DTSTART;TZID=Europe/Paris:20240406T080000
DTEND;TZID=Europe/Paris:20240406T120000
DTSTAMP:20260424T175241
CREATED:20240206T151555Z
LAST-MODIFIED:20240206T151612Z
UID:35771-1712390400-1712404800@www.quincieux.fr
SUMMARY:Cochon d'Avril
DESCRIPTION:
URL:https://www.quincieux.fr/event/cochon-davril/
LOCATION:Place de l’Eglise
END:VEVENT
BEGIN:VEVENT
DTSTART;TZID=Europe/Paris:20240406T140000
DTEND;TZID=Europe/Paris:20240406T170000
DTSTAMP:20260424T175241
CREATED:20240206T145914Z
LAST-MODIFIED:20240206T150003Z
UID:35751-1712412000-1712422800@www.quincieux.fr
SUMMARY:Stage Rocky Guinguette Danse
DESCRIPTION:stage cha-cha
URL:https://www.quincieux.fr/event/stage-rocky-guinguette-danse-copy-3/
LOCATION:Salle Marcelle Lyonnet (Ancienne Poste)\, Route de Chasselay
ORGANIZER;CN="Rocky Guinguette Danse":MAILTO:vandrouxd267@gmail.com
END:VEVENT
BEGIN:VEVENT
DTSTART;TZID=Europe/Paris:20240406T200000
DTEND;TZID=Europe/Paris:20240406T230000
DTSTAMP:20260424T175241
CREATED:20240206T151922Z
LAST-MODIFIED:20240206T151922Z
UID:35773-1712433600-1712444400@www.quincieux.fr
SUMMARY:Printemps des Musiciens
DESCRIPTION:le Printemps de Musiciens. \nUn concert évènement qui ouvre les classes de l’école de musique. \nEnsemble de cuivres\, groupe de guitares\, chœur d’enfants\, percussions\, etc.
URL:https://www.quincieux.fr/event/printemps-des-musiciens/
LOCATION:Salle Yvonne Chemarin (MJC)
END:VEVENT
BEGIN:VEVENT
DTSTART;TZID=Europe/Paris:20240407T150000
DTEND;TZID=Europe/Paris:20240407T170000
DTSTAMP:20260424T175241
CREATED:20240206T152049Z
LAST-MODIFIED:20240206T152357Z
UID:35776-1712502000-1712509200@www.quincieux.fr
SUMMARY:Fish and Zik - Les orchestrades juniors
DESCRIPTION:Festoche Fastoche. \nLa classe Orchestre et l’Orchestre Junior accueillent l’Orchestre Lancen du conservatoire de Villefranche-sur-Saône
URL:https://www.quincieux.fr/event/fish-and-zik-les-orchestrades-juniors/
LOCATION:Salle Yvonne Chemarin (MJC)
END:VEVENT
BEGIN:VEVENT
DTSTART;TZID=Europe/Paris:20240412T140000
DTEND;TZID=Europe/Paris:20240412T160000
DTSTAMP:20260424T175241
CREATED:20240202T133955Z
LAST-MODIFIED:20240205T093342Z
UID:35634-1712930400-1712937600@www.quincieux.fr
SUMMARY:Tricot Thé Crochet !
DESCRIPTION:Que vous soyez novices ou amateurs\, découvrez les bases du crochet ou continuez votre ouvrage lors d’un moment convivial ! \nCompter ses rangs\, monter ses mailles et tisser du lien \nRencontre\, échange\, partage\, conseils\, astuces\, idées ... \nSi vous avez de la laine\, des crochets ou des aiguilles : venez avec ! \nSinon … nous partagerons notre matériel \nLe deuxième vendredi de chaque mois  \nTout public - entrée libre sans inscription \nAu plaisir !
URL:https://www.quincieux.fr/event/tricot-the-crochet/
LOCATION:Médiathèque Esqale\, Chemin Saint Laurent\, Quincieux
END:VEVENT
BEGIN:VEVENT
DTSTART;TZID=Europe/Paris:20240414T150000
DTEND;TZID=Europe/Paris:20240414T170000
DTSTAMP:20260424T175241
CREATED:20240411T080931Z
LAST-MODIFIED:20240411T100135Z
UID:36900-1713106800-1713114000@www.quincieux.fr
SUMMARY:Saône Mont d'Or Football Club
DESCRIPTION:
URL:https://www.quincieux.fr/event/saone-mont-dor-football-club/
LOCATION:Stade
END:VEVENT
BEGIN:VEVENT
DTSTART;TZID=Europe/Paris:20240416T080000
DTEND;TZID=Europe/Paris:20240416T160000
DTSTAMP:20260424T175241
CREATED:20240411T080527Z
LAST-MODIFIED:20240411T080527Z
UID:36897-1713254400-1713283200@www.quincieux.fr
SUMMARY:Médiathèque ESQALE
DESCRIPTION:
URL:https://www.quincieux.fr/event/mediatheque-esqale-2/
LOCATION:Médiathèque Esqale\, Chemin Saint Laurent\, Quincieux
END:VEVENT
BEGIN:VEVENT
DTSTART;VALUE=DATE:20240417
DTEND;VALUE=DATE:20240501
DTSTAMP:20260424T175241
CREATED:20240406T100105Z
LAST-MODIFIED:20240409T141755Z
UID:36803-1713312000-1714521599@www.quincieux.fr
SUMMARY:Mediathèque Esqale "Valises Mystères"
DESCRIPTION:  Un message bien surprenant reçu à la médiathèque … \n\n\n\n« 17 avril - STOP - livraison 3 valises - STOP - Voyage - STOP - Lyon  - STOP - Flûte  - STOP» \n\n\n\nQue signifie cette étrange missive ? Le mystère plane à la médiathèque … \n\n\n\nVous avez l’âme d’un détective ? \n\n\n\nVous aimez percer les mystères et décoder ? \n\n\n\nAlors\, Venez nous aider à découvrir ce que contiennent ces valises !Prévisualiser (ouvre un nouvel onglet) \n\n\n\nÀ partir de 12 ans seul ou en mini-groupe \n\n\n\nDate :Du mercredi 17 avril au mardi 30 avril \n\n\n\nAux horaires d’ouverture de la médiathèque
URL:https://www.quincieux.fr/event/mediatheque-esqale-valises-mysteres/
LOCATION:Médiathèque Esqale\, Chemin Saint Laurent\, Quincieux
END:VEVENT
BEGIN:VEVENT
DTSTART;VALUE=DATE:20240417
DTEND;VALUE=DATE:20240418
DTSTAMP:20260424T175241
CREATED:20240206T155807Z
LAST-MODIFIED:20240206T155807Z
UID:35779-1713312000-1713398399@www.quincieux.fr
SUMMARY:Tournoi de belote inter club
DESCRIPTION:
URL:https://www.quincieux.fr/event/tournoi-de-belote-inter-club/
LOCATION:Salle Yvonne Chemarin (MJC)
END:VEVENT
BEGIN:VEVENT
DTSTART;TZID=Europe/Paris:20240417T133000
DTEND;TZID=Europe/Paris:20240417T170000
DTSTAMP:20260424T175241
CREATED:20240406T092209Z
LAST-MODIFIED:20240406T095508Z
UID:36792-1713360600-1713373200@www.quincieux.fr
SUMMARY:Concours de Belote coinchée
DESCRIPTION:
URL:https://www.quincieux.fr/event/concours-de-belote-coinchee/
LOCATION:Salle Yvonne Chemarin (MJC)
END:VEVENT
BEGIN:VEVENT
DTSTART;TZID=Europe/Paris:20240419T140000
DTEND;TZID=Europe/Paris:20240419T170000
DTSTAMP:20260424T175241
CREATED:20240406T100351Z
LAST-MODIFIED:20240406T100427Z
UID:36808-1713535200-1713546000@www.quincieux.fr
SUMMARY:Mediathèque Esqale "Initiation Crochet "
DESCRIPTION:Ado-adulte  \nDécouvrir les bases ou continuer un ouvrage en cours \nUn rendez-vous idéal échanger et partager conseils\, astuces et idées \nCompter ses rangs\, monter ses mailles et tisser du lien \n  \nSi vous avez de la laine ou du coton\, venez avec \nSinon nous partageons notre matériel ! \n  \nGratuit\, et ouvert à toutes et à tous \nIntéressé ? On vous sert tisane\, thé ou grenadine ?! \nDates : Le vendredi 19 avril à 14h00 \nÀ partir de 11 ans
URL:https://www.quincieux.fr/event/mediatheque-esqale-initiation-crochet/
END:VEVENT
BEGIN:VEVENT
DTSTART;TZID=Europe/Paris:20240425T140000
DTEND;TZID=Europe/Paris:20240425T170000
DTSTAMP:20260424T175241
CREATED:20240424T092416Z
LAST-MODIFIED:20240424T092416Z
UID:37187-1714053600-1714064400@www.quincieux.fr
SUMMARY:Stage Rocky Guinguette Danse
DESCRIPTION:
URL:https://www.quincieux.fr/event/stage-rocky-guinguette-danse-2/
LOCATION:Salle Marcelle Lyonnet (Ancienne Poste)\, Route de Chasselay
ORGANIZER;CN="Rocky Guinguette Danse":MAILTO:vandrouxd267@gmail.com
END:VEVENT
BEGIN:VEVENT
DTSTART;VALUE=DATE:20240427
DTEND;VALUE=DATE:20240429
DTSTAMP:20260424T175241
CREATED:20240202T163914Z
LAST-MODIFIED:20240419T134752Z
UID:35664-1714176000-1714348799@www.quincieux.fr
SUMMARY:Ball trapp
DESCRIPTION:
URL:https://www.quincieux.fr/event/concours-veterans-copy-copy-copy-2-copy-copy/
LOCATION:Les Chanaux
END:VEVENT
BEGIN:VEVENT
DTSTART;TZID=Europe/Paris:20240427T203000
DTEND;TZID=Europe/Paris:20240427T223000
DTSTAMP:20260424T175241
CREATED:20240423T133804Z
LAST-MODIFIED:20240423T133804Z
UID:37131-1714249800-1714257000@www.quincieux.fr
SUMMARY:Ensemble Musical de Quincieux
DESCRIPTION:Concert à Couzon-au-Mont-d’Or \nSamedi 27 avril\, 20h30 \nSalle des fêtes de Couzon-au-Mont-d’Or. \nLe Ganabrass\, ensemble de cuivres de Genay nous invite à un concert exceptionnel !
URL:https://www.quincieux.fr/event/ensemble-musical-de-quincieux/
END:VEVENT
END:VCALENDAR