BEGIN:VCALENDAR
VERSION:2.0
PRODID:-//Mairie de Quincieux - ECPv6.15.18//NONSGML v1.0//EN
CALSCALE:GREGORIAN
METHOD:PUBLISH
X-WR-CALNAME:Mairie de Quincieux
X-ORIGINAL-URL:https://www.quincieux.fr
X-WR-CALDESC:Évènements pour Mairie de Quincieux
REFRESH-INTERVAL;VALUE=DURATION:PT1H
X-Robots-Tag:noindex
X-PUBLISHED-TTL:PT1H
BEGIN:VTIMEZONE
TZID:Europe/Paris
BEGIN:DAYLIGHT
TZOFFSETFROM:+0100
TZOFFSETTO:+0200
TZNAME:CEST
DTSTART:20230326T010000
END:DAYLIGHT
BEGIN:STANDARD
TZOFFSETFROM:+0200
TZOFFSETTO:+0100
TZNAME:CET
DTSTART:20231029T010000
END:STANDARD
BEGIN:DAYLIGHT
TZOFFSETFROM:+0100
TZOFFSETTO:+0200
TZNAME:CEST
DTSTART:20240331T010000
END:DAYLIGHT
BEGIN:STANDARD
TZOFFSETFROM:+0200
TZOFFSETTO:+0100
TZNAME:CET
DTSTART:20241027T010000
END:STANDARD
BEGIN:DAYLIGHT
TZOFFSETFROM:+0100
TZOFFSETTO:+0200
TZNAME:CEST
DTSTART:20250330T010000
END:DAYLIGHT
BEGIN:STANDARD
TZOFFSETFROM:+0200
TZOFFSETTO:+0100
TZNAME:CET
DTSTART:20251026T010000
END:STANDARD
END:VTIMEZONE
BEGIN:VEVENT
DTSTART;TZID=Europe/Paris:20240202T193000
DTEND;TZID=Europe/Paris:20240202T213000
DTSTAMP:20260424T195956
CREATED:20240116T163927Z
LAST-MODIFIED:20240116T164036Z
UID:35332-1706902200-1706909400@www.quincieux.fr
SUMMARY:Assemblée Générale
DESCRIPTION:
URL:https://www.quincieux.fr/event/assemblee-generale-15/
LOCATION:Salle l’Evidence\, Rue des Flandres\, Quinci
END:VEVENT
BEGIN:VEVENT
DTSTART;TZID=Europe/Paris:20240203T083000
DTEND;TZID=Europe/Paris:20240203T120000
DTSTAMP:20260424T195956
CREATED:20240105T163050Z
LAST-MODIFIED:20240105T163050Z
UID:35081-1706949000-1706961600@www.quincieux.fr
SUMMARY:Vente andouillettes
DESCRIPTION:
URL:https://www.quincieux.fr/event/vente-andouillettes/
LOCATION:Place de l’Eglise
END:VEVENT
BEGIN:VEVENT
DTSTART;TZID=Europe/Paris:20240203T100000
DTEND;TZID=Europe/Paris:20240203T130000
DTSTAMP:20260424T195956
CREATED:20240116T155512Z
LAST-MODIFIED:20240116T155843Z
UID:35316-1706954400-1706965200@www.quincieux.fr
SUMMARY:Conscrits 2024 - Inscriptions adultes
DESCRIPTION:les infos en 1 clic
URL:https://www.quincieux.fr/event/conscrits-2024-inscriptions-des-10-ans-copy-2-copy-2/
LOCATION:chez kinou\, rue de la République
END:VEVENT
BEGIN:VEVENT
DTSTART;TZID=Europe/Paris:20240203T110000
DTEND;TZID=Europe/Paris:20240203T120000
DTSTAMP:20260424T195956
CREATED:20240127T104037Z
LAST-MODIFIED:20240127T104037Z
UID:35509-1706958000-1706961600@www.quincieux.fr
SUMMARY:Audition de poche !
DESCRIPTION:
URL:https://www.quincieux.fr/event/audition-de-poche-5/
LOCATION:Ecole de Musique\, Route de Chasselay
END:VEVENT
BEGIN:VEVENT
DTSTART;TZID=Europe/Paris:20240203T140000
DTEND;TZID=Europe/Paris:20240203T170000
DTSTAMP:20260424T195956
CREATED:20240105T163210Z
LAST-MODIFIED:20240105T163210Z
UID:35083-1706968800-1706979600@www.quincieux.fr
SUMMARY:Assemblée Générale
DESCRIPTION:
URL:https://www.quincieux.fr/event/assemblee-generale-14/
LOCATION:Salle l’Evidence\, Rue des Flandres\, Quinci
END:VEVENT
BEGIN:VEVENT
DTSTART;TZID=Europe/Paris:20240209T180000
DTEND;TZID=Europe/Paris:20240209T213000
DTSTAMP:20260424T195956
CREATED:20240127T105759Z
LAST-MODIFIED:20240127T105759Z
UID:35517-1707501600-1707514200@www.quincieux.fr
SUMMARY:Carnaval Party
DESCRIPTION:
URL:https://www.quincieux.fr/event/carnaval-party/
LOCATION:Salle Yvonne Chemarin (MJC)
ORGANIZER;CN="Sou des Ecoles":MAILTO:sou.quincieux@gmail.com
END:VEVENT
BEGIN:VEVENT
DTSTART;TZID=Europe/Paris:20240209T193000
DTEND;TZID=Europe/Paris:20240209T213000
DTSTAMP:20260424T195956
CREATED:20240127T104816Z
LAST-MODIFIED:20240127T105030Z
UID:35512-1707507000-1707514200@www.quincieux.fr
SUMMARY:Assemblée Générale
DESCRIPTION:
URL:https://www.quincieux.fr/event/assemblee-generale-16/
LOCATION:Salle l’Evidence\, Rue des Flandres\, Quinci
END:VEVENT
BEGIN:VEVENT
DTSTART;TZID=Europe/Paris:20240210T080000
DTEND;TZID=Europe/Paris:20240210T120000
DTSTAMP:20260424T195956
CREATED:20240124T102707Z
LAST-MODIFIED:20240209T085008Z
UID:35439-1707552000-1707566400@www.quincieux.fr
SUMMARY:Vente de Bugnes
DESCRIPTION:
URL:https://www.quincieux.fr/event/vente-de-bugnes/
LOCATION:Maison des Associations
END:VEVENT
BEGIN:VEVENT
DTSTART;TZID=Europe/Paris:20240210T090000
DTEND;TZID=Europe/Paris:20240210T120000
DTSTAMP:20260424T195956
CREATED:20240127T102518Z
LAST-MODIFIED:20240127T102849Z
UID:35505-1707555600-1707566400@www.quincieux.fr
SUMMARY:Plantation d'une haie bocagère
DESCRIPTION:Marathon de la biodiversité. \nDans le cadre de la politique communale de replanter 5 000 arbres et arbustes durant le mandat \, nous organisons le samedi 10 février une journée citoyenne grand public et membres du Conseil Municipal. \nVenez participer à la plantation d’une haie bocagère chemin des Jacollets à partir de 9h00. \nVous pouvez vous inscrire dès a présent par mail contact@quincieux.fr. \n 
URL:https://www.quincieux.fr/event/plantation-dune-haie-bocagere/
LOCATION:chemin des Jaollets\, Jardins de Chamalan
END:VEVENT
BEGIN:VEVENT
DTSTART;TZID=Europe/Paris:20240210T103000
DTEND;TZID=Europe/Paris:20240210T120000
DTSTAMP:20260424T195956
CREATED:20240205T093227Z
LAST-MODIFIED:20240205T093227Z
UID:35696-1707561000-1707566400@www.quincieux.fr
SUMMARY:Les p'tites oreilles ....
DESCRIPTION:Rendez le samedi 10 février pour les histoires des P’tites oreilles ! \nAu plaisir de vous accueillir à partir de 4 ans \nSur inscription
URL:https://www.quincieux.fr/event/les-ptites-oreilles/
LOCATION:Médiathèque Esqale\, Chemin Saint Laurent\, Quincieux
END:VEVENT
BEGIN:VEVENT
DTSTART;TZID=Europe/Paris:20240210T140000
DTEND;TZID=Europe/Paris:20240210T170000
DTSTAMP:20260424T195956
CREATED:20240206T145820Z
LAST-MODIFIED:20240206T150103Z
UID:35747-1707573600-1707584400@www.quincieux.fr
SUMMARY:Stage Rocky Guinguette Danse
DESCRIPTION:stage java - valse
URL:https://www.quincieux.fr/event/stage-rocky-guinguette-danse-copy/
LOCATION:Salle Marcelle Lyonnet (Ancienne Poste)\, Route de Chasselay
ORGANIZER;CN="Rocky Guinguette Danse":MAILTO:vandrouxd267@gmail.com
END:VEVENT
BEGIN:VEVENT
DTSTART;TZID=Europe/Paris:20240211T133000
DTEND;TZID=Europe/Paris:20240211T190000
DTSTAMP:20260424T195956
CREATED:20240116T142740Z
LAST-MODIFIED:20240116T142740Z
UID:35284-1707658200-1707678000@www.quincieux.fr
SUMMARY:Loto Familial
DESCRIPTION:Organisé par le Club des Anciens salle Yvonne Chemarin à partir de 13 h 30 \nLot 1 - bon d'achat d'une valeur de 800 € \nLot 2 : une télévision \nlot 3 - un karcher \n--- et de nombreux lots --- \nprix des cartons : \n1 carton : 5 € \n5 cartons 20 € \n7 cartons 30 €
URL:https://www.quincieux.fr/event/loto-familial/
LOCATION:Salle Yvonne Chemarin (MJC)
END:VEVENT
BEGIN:VEVENT
DTSTART;VALUE=DATE:20240217
DTEND;VALUE=DATE:20240218
DTSTAMP:20260424T195956
CREATED:20240202T140324Z
LAST-MODIFIED:20240202T140725Z
UID:35643-1708128000-1708214399@www.quincieux.fr
SUMMARY:Concours boules Cellier Neuvillois
DESCRIPTION:Concours 16 Quadrettes Nationale \ncoupe Cellier Neuvillois
URL:https://www.quincieux.fr/event/concours-boules-cellier-neuvillois/
LOCATION:Boulodrome
END:VEVENT
BEGIN:VEVENT
DTSTART;VALUE=DATE:20240217
DTEND;VALUE=DATE:20240218
DTSTAMP:20260424T195956
CREATED:20240202T155147Z
LAST-MODIFIED:20240202T163504Z
UID:35312-1708128000-1708214399@www.quincieux.fr
SUMMARY:Conscrits 2024 - Vente de brioches
DESCRIPTION:les infos en 1 clic
URL:https://www.quincieux.fr/event/conscrits-2024-inscriptions-des-10-ans-copy-copy/
LOCATION:village
END:VEVENT
BEGIN:VEVENT
DTSTART;TZID=Europe/Paris:20240218T143000
DTEND;TZID=Europe/Paris:20240218T190000
DTSTAMP:20260424T195956
CREATED:20240116T161643Z
LAST-MODIFIED:20240116T161643Z
UID:35324-1708266600-1708282800@www.quincieux.fr
SUMMARY:Grand Thé Dansant
DESCRIPTION:Spécial musette animé par l'orchestre Maxime et Bernard \nprix 12€ \nRéservation 06 74 88 00 32 \n 
URL:https://www.quincieux.fr/event/grand-the-dansant/
LOCATION:Espace Maurice Plaisantin
END:VEVENT
BEGIN:VEVENT
DTSTART;TZID=Europe/Paris:20240220T083000
DTEND;TZID=Europe/Paris:20240220T170000
DTSTAMP:20260424T195956
CREATED:20240105T131537Z
LAST-MODIFIED:20240105T162742Z
UID:35047-1708417800-1708448400@www.quincieux.fr
SUMMARY:Concours Vétérans
DESCRIPTION:Concours qualificatif - 16 quadrettes vétérans
URL:https://www.quincieux.fr/event/concours-veterans-copy/
LOCATION:Boulodrome
END:VEVENT
BEGIN:VEVENT
DTSTART;TZID=Europe/Paris:20240220T190000
DTEND;TZID=Europe/Paris:20240220T203000
DTSTAMP:20260424T195956
CREATED:20240209T085241Z
LAST-MODIFIED:20240209T085241Z
UID:35819-1708455600-1708461000@www.quincieux.fr
SUMMARY:Atelier Sophrologie et relaxation
DESCRIPTION:
URL:https://www.quincieux.fr/event/atelier-sophrologie-et-relaxation/
LOCATION:Salle Yvonne Chemarin (MJC)
END:VEVENT
BEGIN:VEVENT
DTSTART;TZID=Europe/Paris:20240221T140000
DTEND;TZID=Europe/Paris:20240221T163000
DTSTAMP:20260424T195956
CREATED:20240216T150737Z
LAST-MODIFIED:20240216T150737Z
UID:35916-1708524000-1708533000@www.quincieux.fr
SUMMARY:Après-midi jeux de société
DESCRIPTION:Après-midi jeux de société \nVenez découvrir ou re découvrir une sélection de jeux \nÀ partir de 7 ans - Réservation conseillée \n 
URL:https://www.quincieux.fr/event/apres-midi-jeux-de-societe/
LOCATION:Médiathèque Esqale\, Chemin Saint Laurent\, Quincieux
END:VEVENT
BEGIN:VEVENT
DTSTART;TZID=Europe/Paris:20240223T140000
DTEND;TZID=Europe/Paris:20240223T163000
DTSTAMP:20260424T195956
CREATED:20240202T132826Z
LAST-MODIFIED:20240216T151619Z
UID:35630-1708696800-1708705800@www.quincieux.fr
SUMMARY:Crochet Thé - grenadine
DESCRIPTION:Initiation Crochet - Spécial vacances ! \nA partir de 12 ans\, sur réservation. \n  \nDécouverte des bases ?  lancez vous dans votre 1ère réalisation \nContinuer un ouvrage en cours ? Possible aussi \nCompter ses rangs\, monter ses mailles et tisser du lien \nRencontre\, échange\, partage\, conseils\, astuces\, idées ... \nSi vous avez de la laine\, du coton\, un crochet … Venez avec \nSinon … Nous partagerons notre matériel \n 
URL:https://www.quincieux.fr/event/crochet-the-grenadine/
LOCATION:Médiathèque Esqale\, Chemin Saint Laurent\, Quincieux
END:VEVENT
BEGIN:VEVENT
DTSTART;TZID=Europe/Paris:20240224T083000
DTEND;TZID=Europe/Paris:20240224T120000
DTSTAMP:20260424T195956
CREATED:20240206T141855Z
LAST-MODIFIED:20240206T141855Z
UID:35723-1708763400-1708776000@www.quincieux.fr
SUMMARY:Vente de Choucroute
DESCRIPTION:
URL:https://www.quincieux.fr/event/vente-de-choucroute/
LOCATION:Parking Maison des Associations
END:VEVENT
BEGIN:VEVENT
DTSTART;TZID=Europe/Paris:20240228T140000
DTEND;TZID=Europe/Paris:20240228T163000
DTSTAMP:20260424T195956
CREATED:20240216T152001Z
LAST-MODIFIED:20240216T152805Z
UID:35921-1709128800-1709137800@www.quincieux.fr
SUMMARY:Séance bookface ... Bookface\, vous connaissez ?
DESCRIPTION:Séance bookface ... Bookface\, vous connaissez ? \nConnaissez-vous le bookface ? \nC’est l’art de réaliser des portraits en plaçant une couverture de livre devant soi. \nOn joue\, on essaye de donner l'illusion que le personnage c'est nous. Le résultat est surprenant ! \nUn moment de cogite mais aussi de rire ! \nUne pré sélection d'ouvrages est à votre disposition. On vous attend pour une séance photo ! \nÀ partir de 8 ans - Sur réservation  \nMercredi 28 février - de 14h00 à 16h30 \n 
URL:https://www.quincieux.fr/event/seance-bookface-bookface-vous-connaissez/
LOCATION:Médiathèque Esqale\, Chemin Saint Laurent\, Quincieux
END:VEVENT
END:VCALENDAR