BEGIN:VCALENDAR
VERSION:2.0
PRODID:-//Mairie de Quincieux - ECPv6.15.18//NONSGML v1.0//EN
CALSCALE:GREGORIAN
METHOD:PUBLISH
X-WR-CALNAME:Mairie de Quincieux
X-ORIGINAL-URL:https://www.quincieux.fr
X-WR-CALDESC:Évènements pour Mairie de Quincieux
REFRESH-INTERVAL;VALUE=DURATION:PT1H
X-Robots-Tag:noindex
X-PUBLISHED-TTL:PT1H
BEGIN:VTIMEZONE
TZID:Europe/Paris
BEGIN:DAYLIGHT
TZOFFSETFROM:+0100
TZOFFSETTO:+0200
TZNAME:CEST
DTSTART:20220327T010000
END:DAYLIGHT
BEGIN:STANDARD
TZOFFSETFROM:+0200
TZOFFSETTO:+0100
TZNAME:CET
DTSTART:20221030T010000
END:STANDARD
BEGIN:DAYLIGHT
TZOFFSETFROM:+0100
TZOFFSETTO:+0200
TZNAME:CEST
DTSTART:20230326T010000
END:DAYLIGHT
BEGIN:STANDARD
TZOFFSETFROM:+0200
TZOFFSETTO:+0100
TZNAME:CET
DTSTART:20231029T010000
END:STANDARD
BEGIN:DAYLIGHT
TZOFFSETFROM:+0100
TZOFFSETTO:+0200
TZNAME:CEST
DTSTART:20240331T010000
END:DAYLIGHT
BEGIN:STANDARD
TZOFFSETFROM:+0200
TZOFFSETTO:+0100
TZNAME:CET
DTSTART:20241027T010000
END:STANDARD
END:VTIMEZONE
BEGIN:VEVENT
DTSTART;TZID=Europe/Paris:20230902T090000
DTEND;TZID=Europe/Paris:20230902T090000
DTSTAMP:20260425T025030
CREATED:20230727T134226Z
LAST-MODIFIED:20230824T062746Z
UID:32812-1693645200-1693645200@www.quincieux.fr
SUMMARY:Zérotisserie
DESCRIPTION:GDE Erreur: Erreur lors de la récupération du fichier - si nécessaire\, arrêtez la vérification d'erreurs (404:Not Found)\nL'amicale des classes en 0 organise une Zérotisserie sur le parking de la Maison des Associations\, en marge du Forum des Associations\, dès 09h00. \nSur place ou à emporter\, vous pourrez déguster de bons poulets rôtis fermiers cuits avec leurs pommes de terre. Ou encore des sandwiches saucisses merguez et barquettes de frites. \nIl est possible de réserver à partir du 1er septembre au 06 81 68 01 17. \n 
URL:https://www.quincieux.fr/event/zerotisserie/
LOCATION:Parking Maison des Associations
CATEGORIES:Association
END:VEVENT
BEGIN:VEVENT
DTSTART;TZID=Europe/Paris:20230902T090000
DTEND;TZID=Europe/Paris:20230902T130000
DTSTAMP:20260425T025030
CREATED:20230413T205832Z
LAST-MODIFIED:20230725T082155Z
UID:30792-1693645200-1693659600@www.quincieux.fr
SUMMARY:Forum des associations
DESCRIPTION:
URL:https://www.quincieux.fr/event/forum-des-associations/
LOCATION:Espace Maurice Plaisantin
CATEGORIES:Association
ORGANIZER;CN="Municipalit%C3%A9":MAILTO:contact@quincieux.fr
END:VEVENT
BEGIN:VEVENT
DTSTART;TZID=Europe/Paris:20230902T113000
DTEND;TZID=Europe/Paris:20230902T113000
DTSTAMP:20260425T025030
CREATED:20230727T115411Z
LAST-MODIFIED:20230727T115551Z
UID:32807-1693654200-1693654200@www.quincieux.fr
SUMMARY:Inauguration de la fresque
DESCRIPTION:
URL:https://www.quincieux.fr/event/inauguration-de-la-fresque/
LOCATION:A côté de l’EMP
CATEGORIES:Municipalité
END:VEVENT
BEGIN:VEVENT
DTSTART;TZID=Europe/Paris:20230909T113000
DTEND;TZID=Europe/Paris:20230909T130000
DTSTAMP:20260425T025030
CREATED:20230901T114324Z
LAST-MODIFIED:20230901T130429Z
UID:33176-1694259000-1694264400@www.quincieux.fr
SUMMARY:Présentation de la saison
DESCRIPTION:L'ensemble musical de Quincieux vous propose une présentation de la saison musicale\, \nouverture par l'Orchestre Adulte Débutant \nsuivi d'un verre de l'amitié.
URL:https://www.quincieux.fr/event/presentation-de-la-saison/
LOCATION:Ecole de Musique\, Route de Chasselay
END:VEVENT
BEGIN:VEVENT
DTSTART;TZID=Europe/Paris:20230910T120000
DTEND;TZID=Europe/Paris:20230910T170000
DTSTAMP:20260425T025030
CREATED:20230901T115552Z
LAST-MODIFIED:20230901T130543Z
UID:33178-1694347200-1694365200@www.quincieux.fr
SUMMARY:Journée festive
DESCRIPTION:La journée festive du 25 juin a été reportée au 10 septembre à 12h00.
URL:https://www.quincieux.fr/event/journee-festive-3/
END:VEVENT
BEGIN:VEVENT
DTSTART;TZID=Europe/Paris:20230916T000000
DTEND;TZID=Europe/Paris:20230916T235900
DTSTAMP:20260425T025030
CREATED:20230413T210155Z
LAST-MODIFIED:20230901T124610Z
UID:30796-1694822400-1694908740@www.quincieux.fr
SUMMARY:Paëlla
DESCRIPTION:
URL:https://www.quincieux.fr/event/paella/
CATEGORIES:Association
END:VEVENT
BEGIN:VEVENT
DTSTART;TZID=Europe/Paris:20230922T190000
DTEND;TZID=Europe/Paris:20230922T233000
DTSTAMP:20260425T025030
CREATED:20230901T125139Z
LAST-MODIFIED:20230901T125456Z
UID:33186-1695409200-1695425400@www.quincieux.fr
SUMMARY:La nuit est belle
DESCRIPTION:
URL:https://www.quincieux.fr/event/la-nuit-est-belle/
LOCATION:Salle Yvonne Chemarin (MJC)
ORGANIZER;CN="Municipalit%C3%A9":MAILTO:contact@quincieux.fr
END:VEVENT
BEGIN:VEVENT
DTSTART;TZID=Europe/Paris:20230923T000000
DTEND;TZID=Europe/Paris:20230923T235900
DTSTAMP:20260425T025030
CREATED:20230413T210410Z
LAST-MODIFIED:20230413T210410Z
UID:30800-1695427200-1695513540@www.quincieux.fr
SUMMARY:Journée festive
DESCRIPTION:
URL:https://www.quincieux.fr/event/journee-festive-2/
LOCATION:Boulodrome
CATEGORIES:Association
END:VEVENT
BEGIN:VEVENT
DTSTART;TZID=Europe/Paris:20230926T103000
DTEND;TZID=Europe/Paris:20230926T183000
DTSTAMP:20260425T025030
CREATED:20230810T080547Z
LAST-MODIFIED:20230810T080929Z
UID:32968-1695724200-1695753000@www.quincieux.fr
SUMMARY:Forum 1er emploi
DESCRIPTION:
URL:https://www.quincieux.fr/event/forum-1er-emploi/
END:VEVENT
BEGIN:VEVENT
DTSTART;TZID=Europe/Paris:20230929T183000
DTEND;TZID=Europe/Paris:20230929T203000
DTSTAMP:20260425T025030
CREATED:20230901T153831Z
LAST-MODIFIED:20230901T153921Z
UID:33218-1696012200-1696019400@www.quincieux.fr
SUMMARY:Médiathèque - Festival AMPLY
DESCRIPTION:Gratuit\, sur réservation \nRetrouver plus d'information sur notre site internet
URL:https://www.quincieux.fr/event/mediatheque-festival-amply/
LOCATION:Médiathèque Esqale\, Chemin Saint Laurent\, Quincieux
END:VEVENT
BEGIN:VEVENT
DTSTART;TZID=Europe/Paris:20230930T130000
DTEND;TZID=Europe/Paris:20230930T220000
DTSTAMP:20260425T025030
CREATED:20230901T152816Z
LAST-MODIFIED:20230904T141824Z
UID:33214-1696078800-1696111200@www.quincieux.fr
SUMMARY:Concours de pétanque
DESCRIPTION:
URL:https://www.quincieux.fr/event/concours-de-petanque/
LOCATION:Boulodrome
END:VEVENT
END:VCALENDAR