BEGIN:VCALENDAR
VERSION:2.0
PRODID:-//Mairie de Quincieux - ECPv6.15.18//NONSGML v1.0//EN
CALSCALE:GREGORIAN
METHOD:PUBLISH
X-WR-CALNAME:Mairie de Quincieux
X-ORIGINAL-URL:https://www.quincieux.fr
X-WR-CALDESC:Évènements pour Mairie de Quincieux
REFRESH-INTERVAL;VALUE=DURATION:PT1H
X-Robots-Tag:noindex
X-PUBLISHED-TTL:PT1H
BEGIN:VTIMEZONE
TZID:Europe/Paris
BEGIN:DAYLIGHT
TZOFFSETFROM:+0100
TZOFFSETTO:+0200
TZNAME:CEST
DTSTART:20220327T010000
END:DAYLIGHT
BEGIN:STANDARD
TZOFFSETFROM:+0200
TZOFFSETTO:+0100
TZNAME:CET
DTSTART:20221030T010000
END:STANDARD
BEGIN:DAYLIGHT
TZOFFSETFROM:+0100
TZOFFSETTO:+0200
TZNAME:CEST
DTSTART:20230326T010000
END:DAYLIGHT
BEGIN:STANDARD
TZOFFSETFROM:+0200
TZOFFSETTO:+0100
TZNAME:CET
DTSTART:20231029T010000
END:STANDARD
BEGIN:DAYLIGHT
TZOFFSETFROM:+0100
TZOFFSETTO:+0200
TZNAME:CEST
DTSTART:20240331T010000
END:DAYLIGHT
BEGIN:STANDARD
TZOFFSETFROM:+0200
TZOFFSETTO:+0100
TZNAME:CET
DTSTART:20241027T010000
END:STANDARD
END:VTIMEZONE
BEGIN:VEVENT
DTSTART;TZID=Europe/Paris:20230104T080000
DTEND;TZID=Europe/Paris:20230104T170000
DTSTAMP:20260425T153142
CREATED:20221206T163617Z
LAST-MODIFIED:20221206T163617Z
UID:25662-1672819200-1672851600@www.quincieux.fr
SUMMARY:Concours officiel
DESCRIPTION:
URL:https://www.quincieux.fr/event/concours-officiel-3/
CATEGORIES:Association
END:VEVENT
BEGIN:VEVENT
DTSTART;TZID=Europe/Paris:20230106T180000
DTEND;TZID=Europe/Paris:20230106T200000
DTSTAMP:20260425T153142
CREATED:20230105T093556Z
LAST-MODIFIED:20230106T074728Z
UID:26491-1673028000-1673035200@www.quincieux.fr
SUMMARY:Assemblée générale
DESCRIPTION:Assemblée générale de l'Amicale classe en 5
URL:https://www.quincieux.fr/event/brocante-2-copy/
CATEGORIES:Association
END:VEVENT
BEGIN:VEVENT
DTSTART;VALUE=DATE:20230107
DTEND;VALUE=DATE:20230108
DTSTAMP:20260425T153142
CREATED:20230106T134729Z
LAST-MODIFIED:20230106T134925Z
UID:26880-1673049600-1673135999@www.quincieux.fr
SUMMARY:Concours Jambon
DESCRIPTION:
URL:https://www.quincieux.fr/event/concours-jambon/
CATEGORIES:Association
END:VEVENT
BEGIN:VEVENT
DTSTART;VALUE=DATE:20230107
DTEND;VALUE=DATE:20230109
DTSTAMP:20260425T153142
CREATED:20230106T132644Z
LAST-MODIFIED:20230106T134654Z
UID:26879-1673049600-1673222399@www.quincieux.fr
SUMMARY:Tournoi en salle
DESCRIPTION:
URL:https://www.quincieux.fr/event/tournoi-en-salle-2/
CATEGORIES:Sport
END:VEVENT
BEGIN:VEVENT
DTSTART;TZID=Europe/Paris:20230113T180000
DTEND;TZID=Europe/Paris:20230113T200000
DTSTAMP:20260425T153142
CREATED:20230106T140615Z
LAST-MODIFIED:20230113T181729Z
UID:26882-1673632800-1673640000@www.quincieux.fr
SUMMARY:Tirage des rois de l'Amicale Classes en 0
DESCRIPTION:Tirage des rois de l'Amicale Classes en 0
URL:https://www.quincieux.fr/event/tirage-des-rois/
CATEGORIES:Association
END:VEVENT
BEGIN:VEVENT
DTSTART;TZID=Europe/Paris:20230113T183000
DTEND;TZID=Europe/Paris:20230113T210000
DTSTAMP:20260425T153142
CREATED:20230106T140312Z
LAST-MODIFIED:20230113T095532Z
UID:26881-1673634600-1673643600@www.quincieux.fr
SUMMARY:Assemblée générale de l'Amicale Classes en 4
DESCRIPTION:Assemblée générale de l'Amicale Classes en 4
URL:https://www.quincieux.fr/event/assemblee-generale-19/
CATEGORIES:Association
END:VEVENT
BEGIN:VEVENT
DTSTART;TZID=Europe/Paris:20230114T183000
DTEND;TZID=Europe/Paris:20230114T200000
DTSTAMP:20260425T153142
CREATED:20221206T171024Z
LAST-MODIFIED:20230107T180305Z
UID:25666-1673721000-1673726400@www.quincieux.fr
SUMMARY:Vœux du Maire
DESCRIPTION:La cérémonie des vœux du Maire aura lieu le samedi 14 janvier 2023 à 18h30 à l’Espace Maurice Plaisantin.
URL:https://www.quincieux.fr/event/voeux-du-maire-7/
ORGANIZER;CN="Municipalit%C3%A9":MAILTO:contact@quincieux.fr
END:VEVENT
BEGIN:VEVENT
DTSTART;TZID=Europe/Paris:20230115T090000
DTEND;TZID=Europe/Paris:20230115T120000
DTSTAMP:20260425T153142
CREATED:20230106T142135Z
LAST-MODIFIED:20230106T142135Z
UID:26885-1673773200-1673784000@www.quincieux.fr
SUMMARY:Inscriptions conscrits 2023
DESCRIPTION:
URL:https://www.quincieux.fr/event/inscriptions-conscrits-2023/
CATEGORIES:Association
END:VEVENT
BEGIN:VEVENT
DTSTART;TZID=Europe/Paris:20230115T160000
DTEND;TZID=Europe/Paris:20230115T200000
DTSTAMP:20260425T153142
CREATED:20230106T141747Z
LAST-MODIFIED:20230113T095743Z
UID:26884-1673798400-1673812800@www.quincieux.fr
SUMMARY:Assemblée générale de l'Amicale Classes en 6
DESCRIPTION:Assemblée générale de l'Amicale Classes en 6.\nVenez tirer les rois avec nous !
URL:https://www.quincieux.fr/event/assemblee-generale-rois-2/
CATEGORIES:Association
END:VEVENT
BEGIN:VEVENT
DTSTART;TZID=Europe/Paris:20230117T093000
DTEND;TZID=Europe/Paris:20230117T170000
DTSTAMP:20260425T153142
CREATED:20230106T142919Z
LAST-MODIFIED:20230113T100503Z
UID:26886-1673947800-1673974800@www.quincieux.fr
SUMMARY:Concours de boules vétérans
DESCRIPTION:L'Amicale Boule de Quincieux vous convie au concours des vétérans.\nPour plus d'infos : www.amicaleboulequincieux.com
URL:https://www.quincieux.fr/event/concours-veterans-9/
CATEGORIES:Association
END:VEVENT
BEGIN:VEVENT
DTSTART;TZID=Europe/Paris:20230119T160000
DTEND;TZID=Europe/Paris:20230119T180000
DTSTAMP:20260425T153142
CREATED:20230106T142941Z
LAST-MODIFIED:20230113T100638Z
UID:26887-1674144000-1674151200@www.quincieux.fr
SUMMARY:Assemblée générale du Club des Anciens
DESCRIPTION:Assemblée générale du Club des Anciens
URL:https://www.quincieux.fr/event/assemblee-generale-20/
CATEGORIES:Association
END:VEVENT
BEGIN:VEVENT
DTSTART;TZID=Europe/Paris:20230120T180000
DTEND;TZID=Europe/Paris:20230120T210000
DTSTAMP:20260425T153142
CREATED:20230106T143044Z
LAST-MODIFIED:20230106T143044Z
UID:26888-1674237600-1674248400@www.quincieux.fr
SUMMARY:Inscriptions conscrits 2023
DESCRIPTION:
URL:https://www.quincieux.fr/event/inscriptions-conscrits-2023-2/
CATEGORIES:Association
END:VEVENT
BEGIN:VEVENT
DTSTART;TZID=Europe/Paris:20230120T180000
DTEND;TZID=Europe/Paris:20230120T230000
DTSTAMP:20260425T153142
CREATED:20230113T180541Z
LAST-MODIFIED:20230113T181939Z
UID:27446-1674237600-1674255600@www.quincieux.fr
SUMMARY:Nuits de la lecture 2023 : La peur...
DESCRIPTION:Dans le cadre des Nuits de la Lecture\, (événement national)\, \nLe vendredi 20 janvier à la médiathèque de QUINCIEUX \nNous vous invitons à écouter des lectures et variations sur le thème ... \n... Des chocottes\, pour les petits à partir de 6 ans à 18h00 \n... De la frayeur\, pour les plus grands\, de 15 à 120 ans\, à 20h00 \nMuni de votre lampe de poche\, votre bonnet et vos gants\, frissonnez au gré de lectures itinérantes dans la médiathèque et son jardin\, plongés dans le noir ... \nGratuit\, sur inscription uniquement\, auprès de la médiathèque : \nTel : 06 07 19 02 68 \nmediatheque@quincieux.fr \nAvec la participation de la Grange à Sons sur la séquence ado/adulte de 20h \nN'hésitez pas à vous rendre également sur le site officiel des Nuits de la lecture
URL:https://www.quincieux.fr/event/nuits-de-la-lecture-2023-la-peur/
CATEGORIES:Culture
END:VEVENT
BEGIN:VEVENT
DTSTART;TZID=Europe/Paris:20230120T200000
DTEND;TZID=Europe/Paris:20230120T220000
DTSTAMP:20260425T153142
CREATED:20230119T072813Z
LAST-MODIFIED:20230119T072813Z
UID:27773-1674244800-1674252000@www.quincieux.fr
SUMMARY:Amicale des classes en 8 : tirage des rois
DESCRIPTION:L'Amicale des classes en 8 vous invite au tirage des rois .
URL:https://www.quincieux.fr/event/amicale-des-classes-en-8-tirage-des-rois/
CATEGORIES:Association
END:VEVENT
BEGIN:VEVENT
DTSTART;TZID=Europe/Paris:20230121T090000
DTEND;TZID=Europe/Paris:20230121T120000
DTSTAMP:20260425T153142
CREATED:20230106T143118Z
LAST-MODIFIED:20230113T101134Z
UID:26889-1674291600-1674302400@www.quincieux.fr
SUMMARY:Vente de boudins par la société de chasse
DESCRIPTION:La société de chasse vous propose sa traditionnelle vente de boudin.
URL:https://www.quincieux.fr/event/vente-de-boudins-4/
CATEGORIES:Association
END:VEVENT
BEGIN:VEVENT
DTSTART;TZID=Europe/Paris:20230122T090000
DTEND;TZID=Europe/Paris:20230122T120000
DTSTAMP:20260425T153142
CREATED:20230106T143227Z
LAST-MODIFIED:20230106T143227Z
UID:26891-1674378000-1674388800@www.quincieux.fr
SUMMARY:Inscriptions conscrits 2023
DESCRIPTION:
URL:https://www.quincieux.fr/event/inscriptions-conscrits-2023-3/
CATEGORIES:Association
END:VEVENT
BEGIN:VEVENT
DTSTART;TZID=Europe/Paris:20230122T133000
DTEND;TZID=Europe/Paris:20230122T160000
DTSTAMP:20260425T153142
CREATED:20230106T143152Z
LAST-MODIFIED:20230113T101933Z
UID:26890-1674394200-1674403200@www.quincieux.fr
SUMMARY:Loto de l'Amicale Classes en 5
DESCRIPTION:Rendez-vous le 22 Janvier  pour le 1 er Loto 2023 de la classe en 5 ! \nPour tout renseignement : www.facebook.com/people/LAmicale-des-classes-en-5-de-Quincieux/100064706677341/ \nContact : dm.aucourt@gmail.com \n 
URL:https://www.quincieux.fr/event/loto-12/
CATEGORIES:Association
ORGANIZER;CN="Amicale Classes en 5":MAILTO:dm.aucourt@gmail.com
END:VEVENT
BEGIN:VEVENT
DTSTART;VALUE=DATE:20230126
DTEND;VALUE=DATE:20230127
DTSTAMP:20260425T153142
CREATED:20230106T145017Z
LAST-MODIFIED:20230125T084513Z
UID:26913-1674691200-1674777599@www.quincieux.fr
SUMMARY:Assemblée générale de la Société de Chasse
DESCRIPTION:Assemblée générale de la Société de Chasse
URL:https://www.quincieux.fr/event/assemblee-generale-22/
CATEGORIES:Association
END:VEVENT
BEGIN:VEVENT
DTSTART;VALUE=DATE:20230126
DTEND;VALUE=DATE:20230127
DTSTAMP:20260425T153142
CREATED:20230106T144952Z
LAST-MODIFIED:20230125T084429Z
UID:26912-1674691200-1674777599@www.quincieux.fr
SUMMARY:Assemblée Générale des Lucioles
DESCRIPTION:Assemblée générale des Lucioles
URL:https://www.quincieux.fr/event/assemblee-generale-21/
CATEGORIES:Association
END:VEVENT
BEGIN:VEVENT
DTSTART;TZID=Europe/Paris:20230127T000000
DTEND;TZID=Europe/Paris:20230127T235900
DTSTAMP:20260425T153142
CREATED:20230106T145119Z
LAST-MODIFIED:20230127T134200Z
UID:26914-1674777600-1674863940@www.quincieux.fr
SUMMARY:Assemblée Générale des Conscrits Classes en 3
DESCRIPTION:Assemblée générale des Conscrits Classes en 3
URL:https://www.quincieux.fr/event/assemblee-generale-23/
CATEGORIES:Association
END:VEVENT
BEGIN:VEVENT
DTSTART;TZID=Europe/Paris:20230127T180000
DTEND;TZID=Europe/Paris:20230127T180000
DTSTAMP:20260425T153142
CREATED:20230106T145227Z
LAST-MODIFIED:20230127T134041Z
UID:26917-1674842400-1674842400@www.quincieux.fr
SUMMARY:Assemblée générale de la MJC
DESCRIPTION:Assemblée Générale de la MJC
URL:https://www.quincieux.fr/event/assemblee-generale-25/
CATEGORIES:Association
END:VEVENT
END:VCALENDAR