BEGIN:VCALENDAR
VERSION:2.0
PRODID:-//Mairie de Quincieux - ECPv6.15.18//NONSGML v1.0//EN
CALSCALE:GREGORIAN
METHOD:PUBLISH
X-ORIGINAL-URL:https://www.quincieux.fr
X-WR-CALDESC:Évènements pour Mairie de Quincieux
REFRESH-INTERVAL;VALUE=DURATION:PT1H
X-Robots-Tag:noindex
X-PUBLISHED-TTL:PT1H
BEGIN:VTIMEZONE
TZID:Europe/Paris
BEGIN:DAYLIGHT
TZOFFSETFROM:+0100
TZOFFSETTO:+0200
TZNAME:CEST
DTSTART:20250330T010000
END:DAYLIGHT
BEGIN:STANDARD
TZOFFSETFROM:+0200
TZOFFSETTO:+0100
TZNAME:CET
DTSTART:20251026T010000
END:STANDARD
BEGIN:DAYLIGHT
TZOFFSETFROM:+0100
TZOFFSETTO:+0200
TZNAME:CEST
DTSTART:20260329T010000
END:DAYLIGHT
BEGIN:STANDARD
TZOFFSETFROM:+0200
TZOFFSETTO:+0100
TZNAME:CET
DTSTART:20261025T010000
END:STANDARD
BEGIN:DAYLIGHT
TZOFFSETFROM:+0100
TZOFFSETTO:+0200
TZNAME:CEST
DTSTART:20270328T010000
END:DAYLIGHT
BEGIN:STANDARD
TZOFFSETFROM:+0200
TZOFFSETTO:+0100
TZNAME:CET
DTSTART:20271031T010000
END:STANDARD
END:VTIMEZONE
BEGIN:VEVENT
DTSTART;TZID=Europe/Paris:20260301T150000
DTEND;TZID=Europe/Paris:20260301T180000
DTSTAMP:20260419T170331
CREATED:20251224T105335Z
LAST-MODIFIED:20251224T105518Z
UID:49246-1772377200-1772388000@www.quincieux.fr
SUMMARY:Orchestrades XI
DESCRIPTION:Les Orchestrades XI : chaque année\, nous accueillons des orchestres amis\, afin de partager une soirée musicale. \nCette année\, nos amis de Pontcharra et le Venusta de Chaponnay seront avec nous pour cette soirée du samedi 28 février à 20h30. \nLe lendemain\, dimanche 1er mars à 15h\, nous accueillerons une harmonie de l’Allier (03)\, l’Harmonie de Saint-Pourçain-sur-Sioule.
URL:https://www.quincieux.fr/event/49243-copy/
LOCATION:Salle Yvonne Chemarin (MJC)
CATEGORIES:Association,Culture
END:VEVENT
END:VCALENDAR