BEGIN:VCALENDAR
VERSION:2.0
PRODID:-//Mairie de Quincieux - ECPv6.15.18//NONSGML v1.0//EN
CALSCALE:GREGORIAN
METHOD:PUBLISH
X-WR-CALNAME:Mairie de Quincieux
X-ORIGINAL-URL:https://www.quincieux.fr
X-WR-CALDESC:Évènements pour Mairie de Quincieux
REFRESH-INTERVAL;VALUE=DURATION:PT1H
X-Robots-Tag:noindex
X-PUBLISHED-TTL:PT1H
BEGIN:VTIMEZONE
TZID:Europe/Paris
BEGIN:DAYLIGHT
TZOFFSETFROM:+0100
TZOFFSETTO:+0200
TZNAME:CEST
DTSTART:20230326T010000
END:DAYLIGHT
BEGIN:STANDARD
TZOFFSETFROM:+0200
TZOFFSETTO:+0100
TZNAME:CET
DTSTART:20231029T010000
END:STANDARD
BEGIN:DAYLIGHT
TZOFFSETFROM:+0100
TZOFFSETTO:+0200
TZNAME:CEST
DTSTART:20240331T010000
END:DAYLIGHT
BEGIN:STANDARD
TZOFFSETFROM:+0200
TZOFFSETTO:+0100
TZNAME:CET
DTSTART:20241027T010000
END:STANDARD
BEGIN:DAYLIGHT
TZOFFSETFROM:+0100
TZOFFSETTO:+0200
TZNAME:CEST
DTSTART:20250330T010000
END:DAYLIGHT
BEGIN:STANDARD
TZOFFSETFROM:+0200
TZOFFSETTO:+0100
TZNAME:CET
DTSTART:20251026T010000
END:STANDARD
END:VTIMEZONE
BEGIN:VEVENT
DTSTART;TZID=Europe/Paris:20240720T103000
DTEND;TZID=Europe/Paris:20240720T120000
DTSTAMP:20260424T135720
CREATED:20240717T094115Z
LAST-MODIFIED:20240717T094115Z
UID:38667-1721471400-1721476800@www.quincieux.fr
SUMMARY:Prix du livre « Lire pour Agir » 2024
DESCRIPTION:Le prix du livre de la transition écologique  \nLe prix Lire pour agir est un des rares prix littéraires dédiés aux œuvres qui abordent les sujets environnementaux. \nVenez découvrir la sélection 2024 ! \nLe vote final aura lieu en octobre. Que vous ayez lu un\, plusieurs ou toute la sélection vous pouvez voter ! \nEn quoi consiste ce rendez-vous ?  \nC’est un moment simple et convivial pour se rencontrer\, échanger\, partager autour de ces ouvrages  et … repartir avec un exemplaire ! \nVous êtes juste curieux ? De passage ? Alors vous êtes également le bienvenu! \n Date : samedi 20 juillet à 10h30 \nLibre et gratuit\, ouvert à toutes et à tous  \n 
URL:https://www.quincieux.fr/event/prix-du-livre-lire-pour-agir-2024/
LOCATION:Médiathèque Esqale\, Chemin Saint Laurent\, Quincieux
CATEGORIES:Association,Culture
END:VEVENT
END:VCALENDAR