BEGIN:VCALENDAR
VERSION:2.0
PRODID:-//Mairie de Quincieux - ECPv6.15.18//NONSGML v1.0//EN
CALSCALE:GREGORIAN
METHOD:PUBLISH
X-WR-CALNAME:Mairie de Quincieux
X-ORIGINAL-URL:https://www.quincieux.fr
X-WR-CALDESC:Évènements pour Mairie de Quincieux
REFRESH-INTERVAL;VALUE=DURATION:PT1H
X-Robots-Tag:noindex
X-PUBLISHED-TTL:PT1H
BEGIN:VTIMEZONE
TZID:Europe/Paris
BEGIN:DAYLIGHT
TZOFFSETFROM:+0100
TZOFFSETTO:+0200
TZNAME:CEST
DTSTART:20230326T010000
END:DAYLIGHT
BEGIN:STANDARD
TZOFFSETFROM:+0200
TZOFFSETTO:+0100
TZNAME:CET
DTSTART:20231029T010000
END:STANDARD
BEGIN:DAYLIGHT
TZOFFSETFROM:+0100
TZOFFSETTO:+0200
TZNAME:CEST
DTSTART:20240331T010000
END:DAYLIGHT
BEGIN:STANDARD
TZOFFSETFROM:+0200
TZOFFSETTO:+0100
TZNAME:CET
DTSTART:20241027T010000
END:STANDARD
BEGIN:DAYLIGHT
TZOFFSETFROM:+0100
TZOFFSETTO:+0200
TZNAME:CEST
DTSTART:20250330T010000
END:DAYLIGHT
BEGIN:STANDARD
TZOFFSETFROM:+0200
TZOFFSETTO:+0100
TZNAME:CET
DTSTART:20251026T010000
END:STANDARD
END:VTIMEZONE
BEGIN:VEVENT
DTSTART;TZID=Europe/Paris:20240703T103000
DTEND;TZID=Europe/Paris:20240703T153000
DTSTAMP:20260424T130427
CREATED:20240624T152731Z
LAST-MODIFIED:20240624T152805Z
UID:38267-1720002600-1720020600@www.quincieux.fr
SUMMARY:Des histoires en kamishibaï sur le porte bagage !
DESCRIPTION:La médiathèque se met en selle et part à votre rencontre sur la commune ! \nRendez-vous fixés au pied de la Résidence Plein Soleil ainsi qu'à La Chapelle \nDates : \nMercredi 26 juin    >  10h30  Résidence Plein Soleil \n                                  >  15h30  La Chapelle \n  \n Mercredi 3 juillet >  10h30  La Chapelle \n                                  >  15h30  Résidence Plein Soleil \n  \nAu plaisir de vous retrouver sur nos lieux de passage \nInstallez-vous et ouvrez grand vos oreilles ! \n> durée 35 mn  > Libre\, gratuit et ouvert à toutes et tous.
URL:https://www.quincieux.fr/event/des-histoires-en-kamishibai-sur-le-porte-bagage-copy/
END:VEVENT
END:VCALENDAR