BEGIN:VCALENDAR
VERSION:2.0
PRODID:-//Mairie de Quincieux - ECPv6.15.18//NONSGML v1.0//EN
CALSCALE:GREGORIAN
METHOD:PUBLISH
X-ORIGINAL-URL:https://www.quincieux.fr
X-WR-CALDESC:Évènements pour Mairie de Quincieux
REFRESH-INTERVAL;VALUE=DURATION:PT1H
X-Robots-Tag:noindex
X-PUBLISHED-TTL:PT1H
BEGIN:VTIMEZONE
TZID:Europe/Paris
BEGIN:DAYLIGHT
TZOFFSETFROM:+0100
TZOFFSETTO:+0200
TZNAME:CEST
DTSTART:20230326T010000
END:DAYLIGHT
BEGIN:STANDARD
TZOFFSETFROM:+0200
TZOFFSETTO:+0100
TZNAME:CET
DTSTART:20231029T010000
END:STANDARD
BEGIN:DAYLIGHT
TZOFFSETFROM:+0100
TZOFFSETTO:+0200
TZNAME:CEST
DTSTART:20240331T010000
END:DAYLIGHT
BEGIN:STANDARD
TZOFFSETFROM:+0200
TZOFFSETTO:+0100
TZNAME:CET
DTSTART:20241027T010000
END:STANDARD
BEGIN:DAYLIGHT
TZOFFSETFROM:+0100
TZOFFSETTO:+0200
TZNAME:CEST
DTSTART:20250330T010000
END:DAYLIGHT
BEGIN:STANDARD
TZOFFSETFROM:+0200
TZOFFSETTO:+0100
TZNAME:CET
DTSTART:20251026T010000
END:STANDARD
END:VTIMEZONE
BEGIN:VEVENT
DTSTART;VALUE=DATE:20240630
DTEND;VALUE=DATE:20240701
DTSTAMP:20260424T142404
CREATED:20240424T083752Z
LAST-MODIFIED:20240424T091304Z
UID:37180-1719705600-1719791999@www.quincieux.fr
SUMMARY:Olympiades de l'ADACQ
DESCRIPTION:« 2024\, année Olympique !!! ».\nA cette occasion\, l’ADACQ reprend ses OLYMPIADES sur le stade municipal.\nRéservez votre dimanche 30 juin pour vous affronter en équipe dans la joie et la bonne humeur.\nTout le monde peut y participer\, des plus jeunes aux plus anciens !!\nNous vous attendons nombreux pour les JO de Quincieux et les 15 ans de l’ADACQ !! \nrepas sur place !!
URL:https://www.quincieux.fr/event/olympiades-de-ladacq/
LOCATION:Stade
END:VEVENT
END:VCALENDAR