BEGIN:VCALENDAR
VERSION:2.0
PRODID:-//Mairie de Quincieux - ECPv6.15.18//NONSGML v1.0//EN
CALSCALE:GREGORIAN
METHOD:PUBLISH
X-WR-CALNAME:Mairie de Quincieux
X-ORIGINAL-URL:https://www.quincieux.fr
X-WR-CALDESC:Évènements pour Mairie de Quincieux
REFRESH-INTERVAL;VALUE=DURATION:PT1H
X-Robots-Tag:noindex
X-PUBLISHED-TTL:PT1H
BEGIN:VTIMEZONE
TZID:Europe/Paris
BEGIN:DAYLIGHT
TZOFFSETFROM:+0100
TZOFFSETTO:+0200
TZNAME:CEST
DTSTART:20230326T010000
END:DAYLIGHT
BEGIN:STANDARD
TZOFFSETFROM:+0200
TZOFFSETTO:+0100
TZNAME:CET
DTSTART:20231029T010000
END:STANDARD
BEGIN:DAYLIGHT
TZOFFSETFROM:+0100
TZOFFSETTO:+0200
TZNAME:CEST
DTSTART:20240331T010000
END:DAYLIGHT
BEGIN:STANDARD
TZOFFSETFROM:+0200
TZOFFSETTO:+0100
TZNAME:CET
DTSTART:20241027T010000
END:STANDARD
BEGIN:DAYLIGHT
TZOFFSETFROM:+0100
TZOFFSETTO:+0200
TZNAME:CEST
DTSTART:20250330T010000
END:DAYLIGHT
BEGIN:STANDARD
TZOFFSETFROM:+0200
TZOFFSETTO:+0100
TZNAME:CET
DTSTART:20251026T010000
END:STANDARD
END:VTIMEZONE
BEGIN:VEVENT
DTSTART;VALUE=DATE:20240615
DTEND;VALUE=DATE:20240616
DTSTAMP:20260424T141958
CREATED:20240424T093328Z
LAST-MODIFIED:20240424T093328Z
UID:37198-1718409600-1718495999@www.quincieux.fr
SUMMARY:Repas festif
DESCRIPTION:
URL:https://www.quincieux.fr/event/repas-festif-4/
LOCATION:Boulodrome
END:VEVENT
BEGIN:VEVENT
DTSTART;TZID=Europe/Paris:20240615T110000
DTEND;TZID=Europe/Paris:20240615T130000
DTSTAMP:20260424T141958
CREATED:20240423T101307Z
LAST-MODIFIED:20240606T094656Z
UID:37094-1718449200-1718456400@www.quincieux.fr
SUMMARY:Inauguration de la Chapelle
DESCRIPTION:Après une année de réhabilitation\, la Chapelle Saint-Jean Baptiste\, inscrite aux monuments historiques retrouve son éclat. Le monument est désormais prêt à s’ouvrir au public avec une cérémonie\nd’inauguration ayant lieu le samedi 15 juin.
URL:https://www.quincieux.fr/event/inauguration-de-la-chapelle/
LOCATION:La Chapelle
END:VEVENT
BEGIN:VEVENT
DTSTART;TZID=Europe/Paris:20240615T140000
DTEND;TZID=Europe/Paris:20240615T170000
DTSTAMP:20260424T141958
CREATED:20240206T145813Z
LAST-MODIFIED:20240206T145936Z
UID:35745-1718460000-1718470800@www.quincieux.fr
SUMMARY:Stage Rocky Guinguette Danse
DESCRIPTION:stage mambo
URL:https://www.quincieux.fr/event/stage-rocky-guinguette-danse/
LOCATION:Salle Marcelle Lyonnet (Ancienne Poste)\, Route de Chasselay
ORGANIZER;CN="Rocky Guinguette Danse":MAILTO:vandrouxd267@gmail.com
END:VEVENT
BEGIN:VEVENT
DTSTART;TZID=Europe/Paris:20240615T160000
DTEND;TZID=Europe/Paris:20240615T190000
DTSTAMP:20260424T141958
CREATED:20240423T123315Z
LAST-MODIFIED:20240606T093328Z
UID:37109-1718467200-1718478000@www.quincieux.fr
SUMMARY:Les Lucioles en fête
DESCRIPTION:
URL:https://www.quincieux.fr/event/fete-des-lucioles/
LOCATION:Parc de la Mairie
END:VEVENT
END:VCALENDAR