BEGIN:VCALENDAR
VERSION:2.0
PRODID:-//Mairie de Quincieux - ECPv6.15.18//NONSGML v1.0//EN
CALSCALE:GREGORIAN
METHOD:PUBLISH
X-WR-CALNAME:Mairie de Quincieux
X-ORIGINAL-URL:https://www.quincieux.fr
X-WR-CALDESC:Évènements pour Mairie de Quincieux
REFRESH-INTERVAL;VALUE=DURATION:PT1H
X-Robots-Tag:noindex
X-PUBLISHED-TTL:PT1H
BEGIN:VTIMEZONE
TZID:Europe/Paris
BEGIN:DAYLIGHT
TZOFFSETFROM:+0100
TZOFFSETTO:+0200
TZNAME:CEST
DTSTART:20230326T010000
END:DAYLIGHT
BEGIN:STANDARD
TZOFFSETFROM:+0200
TZOFFSETTO:+0100
TZNAME:CET
DTSTART:20231029T010000
END:STANDARD
BEGIN:DAYLIGHT
TZOFFSETFROM:+0100
TZOFFSETTO:+0200
TZNAME:CEST
DTSTART:20240331T010000
END:DAYLIGHT
BEGIN:STANDARD
TZOFFSETFROM:+0200
TZOFFSETTO:+0100
TZNAME:CET
DTSTART:20241027T010000
END:STANDARD
BEGIN:DAYLIGHT
TZOFFSETFROM:+0100
TZOFFSETTO:+0200
TZNAME:CEST
DTSTART:20250330T010000
END:DAYLIGHT
BEGIN:STANDARD
TZOFFSETFROM:+0200
TZOFFSETTO:+0100
TZNAME:CET
DTSTART:20251026T010000
END:STANDARD
END:VTIMEZONE
BEGIN:VEVENT
DTSTART;TZID=Europe/Paris:20240612T110000
DTEND;TZID=Europe/Paris:20240612T120000
DTSTAMP:20260424T141958
CREATED:20240423T103109Z
LAST-MODIFIED:20240423T122927Z
UID:37106-1718190000-1718193600@www.quincieux.fr
SUMMARY:Spectacle "la caravane bien lunée"
DESCRIPTION:« La caravane bien lunée » promène ses histoires sur les routes. Kathy Truffier vous invite à un moment de douceur et de convivialité pour ce spectacle de marionnettes : une parenthèse enchantée !\nElle fera « ESQALE » dans notre jardin\, spectacle gratuit\, sur réservation.
URL:https://www.quincieux.fr/event/spectacle-la-caravane-bien-lunee/
LOCATION:Médiathèque Esqale\, Chemin Saint Laurent\, Quincieux
END:VEVENT
END:VCALENDAR