BEGIN:VCALENDAR
VERSION:2.0
PRODID:-//Mairie de Quincieux - ECPv6.15.18//NONSGML v1.0//EN
CALSCALE:GREGORIAN
METHOD:PUBLISH
X-ORIGINAL-URL:https://www.quincieux.fr
X-WR-CALDESC:Évènements pour Mairie de Quincieux
REFRESH-INTERVAL;VALUE=DURATION:PT1H
X-Robots-Tag:noindex
X-PUBLISHED-TTL:PT1H
BEGIN:VTIMEZONE
TZID:Europe/Paris
BEGIN:DAYLIGHT
TZOFFSETFROM:+0100
TZOFFSETTO:+0200
TZNAME:CEST
DTSTART:20230326T010000
END:DAYLIGHT
BEGIN:STANDARD
TZOFFSETFROM:+0200
TZOFFSETTO:+0100
TZNAME:CET
DTSTART:20231029T010000
END:STANDARD
BEGIN:DAYLIGHT
TZOFFSETFROM:+0100
TZOFFSETTO:+0200
TZNAME:CEST
DTSTART:20240331T010000
END:DAYLIGHT
BEGIN:STANDARD
TZOFFSETFROM:+0200
TZOFFSETTO:+0100
TZNAME:CET
DTSTART:20241027T010000
END:STANDARD
BEGIN:DAYLIGHT
TZOFFSETFROM:+0100
TZOFFSETTO:+0200
TZNAME:CEST
DTSTART:20250330T010000
END:DAYLIGHT
BEGIN:STANDARD
TZOFFSETFROM:+0200
TZOFFSETTO:+0100
TZNAME:CET
DTSTART:20251026T010000
END:STANDARD
END:VTIMEZONE
BEGIN:VEVENT
DTSTART;VALUE=DATE:20240608
DTEND;VALUE=DATE:20240609
DTSTAMP:20260424T152059
CREATED:20240424T092831Z
LAST-MODIFIED:20240424T092831Z
UID:37194-1717804800-1717891199@www.quincieux.fr
SUMMARY:But d'honneur
DESCRIPTION:
URL:https://www.quincieux.fr/event/but-dhonneur/
LOCATION:Boulodrome
END:VEVENT
BEGIN:VEVENT
DTSTART;VALUE=DATE:20240608
DTEND;VALUE=DATE:20240610
DTSTAMP:20260424T152059
CREATED:20240423T143932Z
LAST-MODIFIED:20240606T093725Z
UID:37164-1717804800-1717977599@www.quincieux.fr
SUMMARY:Hand'ouillettes
DESCRIPTION:
URL:https://www.quincieux.fr/event/handouillettes-2/
LOCATION:Espace Maurice Plaisantin
END:VEVENT
BEGIN:VEVENT
DTSTART;VALUE=DATE:20240608
DTEND;VALUE=DATE:20240609
DTSTAMP:20260424T152059
CREATED:20240423T143842Z
LAST-MODIFIED:20240606T093519Z
UID:37162-1717804800-1717891199@www.quincieux.fr
SUMMARY:Fête de la MJC
DESCRIPTION:
URL:https://www.quincieux.fr/event/gala-de-fin-dannee/
LOCATION:Espace Maurice Plaisantin
END:VEVENT
BEGIN:VEVENT
DTSTART;TZID=Europe/Paris:20240608T140000
DTEND;TZID=Europe/Paris:20240608T200000
DTSTAMP:20260424T152059
CREATED:20240606T100144Z
LAST-MODIFIED:20240606T100144Z
UID:37932-1717855200-1717876800@www.quincieux.fr
SUMMARY:Fête du Club de Tennis Quincieux
DESCRIPTION:fête du club pour marquer la fin de saison. \nAu programme : jeux pour les enfants et doubles mixtes parents / enfants. Barbecue festif en fin de journée. \nInscriptions possibles à tarif préférentiel pour la saison 2024/2025 et des goodies à gagner.
URL:https://www.quincieux.fr/event/fete-du-club-de-tennis-quincieux/
LOCATION:Tennis Club\, Impasse des Poyets
END:VEVENT
END:VCALENDAR