BEGIN:VCALENDAR
VERSION:2.0
PRODID:-//Mairie de Quincieux - ECPv6.15.18//NONSGML v1.0//EN
CALSCALE:GREGORIAN
METHOD:PUBLISH
X-ORIGINAL-URL:https://www.quincieux.fr
X-WR-CALDESC:Évènements pour Mairie de Quincieux
REFRESH-INTERVAL;VALUE=DURATION:PT1H
X-Robots-Tag:noindex
X-PUBLISHED-TTL:PT1H
BEGIN:VTIMEZONE
TZID:Europe/Paris
BEGIN:DAYLIGHT
TZOFFSETFROM:+0100
TZOFFSETTO:+0200
TZNAME:CEST
DTSTART:20230326T010000
END:DAYLIGHT
BEGIN:STANDARD
TZOFFSETFROM:+0200
TZOFFSETTO:+0100
TZNAME:CET
DTSTART:20231029T010000
END:STANDARD
BEGIN:DAYLIGHT
TZOFFSETFROM:+0100
TZOFFSETTO:+0200
TZNAME:CEST
DTSTART:20240331T010000
END:DAYLIGHT
BEGIN:STANDARD
TZOFFSETFROM:+0200
TZOFFSETTO:+0100
TZNAME:CET
DTSTART:20241027T010000
END:STANDARD
BEGIN:DAYLIGHT
TZOFFSETFROM:+0100
TZOFFSETTO:+0200
TZNAME:CEST
DTSTART:20250330T010000
END:DAYLIGHT
BEGIN:STANDARD
TZOFFSETFROM:+0200
TZOFFSETTO:+0100
TZNAME:CET
DTSTART:20251026T010000
END:STANDARD
END:VTIMEZONE
BEGIN:VEVENT
DTSTART;VALUE=DATE:20240601
DTEND;VALUE=DATE:20240602
DTSTAMP:20260424T142404
CREATED:20240424T092656Z
LAST-MODIFIED:20240424T092656Z
UID:37192-1717200000-1717286399@www.quincieux.fr
SUMMARY:Chalenge de l'amitié
DESCRIPTION:
URL:https://www.quincieux.fr/event/chalenge-de-lamitie/
LOCATION:Boulodrome
END:VEVENT
BEGIN:VEVENT
DTSTART;TZID=Europe/Paris:20240601T203000
DTEND;TZID=Europe/Paris:20240601T223000
DTSTAMP:20260424T142404
CREATED:20240423T134303Z
LAST-MODIFIED:20240423T135021Z
UID:37133-1717273800-1717281000@www.quincieux.fr
SUMMARY:Spectacle des 140 ans : Pérégrinations !
DESCRIPTION:Pérégriner\, c’est voyager loin\, sans but précis.\nVenez assister à un spectacle époustouflant autour de pérégrinations en Amérique Latine et aux Balkans !\nUn voyage sans passeport ! Mais\, à l’occasion de nos 140 ans\, ce spectacle sera également pour vous\, l’occasion de découvrir l’orchestre\, au coeur de son existence…\nLe comédien Pasquale d’Inca sera avec nous pour vous faire vivre\, avec humour et parfois caricatures\, les moments intimes des répétitions de l’orchestre !\nCréation de ce spectacle inédit le samedi 1er juin\, il n’y aura qu’une seule représentation !\nPérégrinez loin\, et au cœur de l’orchestre.\nA ne rater sous aucun prétexte !
URL:https://www.quincieux.fr/event/spectacle-des-140-ans-peregrinations/
LOCATION:Espace Maurice Plaisantin
CATEGORIES:Association
END:VEVENT
END:VCALENDAR