BEGIN:VCALENDAR
VERSION:2.0
PRODID:-//Mairie de Quincieux - ECPv6.15.18//NONSGML v1.0//EN
CALSCALE:GREGORIAN
METHOD:PUBLISH
X-ORIGINAL-URL:https://www.quincieux.fr
X-WR-CALDESC:Évènements pour Mairie de Quincieux
REFRESH-INTERVAL;VALUE=DURATION:PT1H
X-Robots-Tag:noindex
X-PUBLISHED-TTL:PT1H
BEGIN:VTIMEZONE
TZID:Europe/Paris
BEGIN:DAYLIGHT
TZOFFSETFROM:+0100
TZOFFSETTO:+0200
TZNAME:CEST
DTSTART:20230326T010000
END:DAYLIGHT
BEGIN:STANDARD
TZOFFSETFROM:+0200
TZOFFSETTO:+0100
TZNAME:CET
DTSTART:20231029T010000
END:STANDARD
BEGIN:DAYLIGHT
TZOFFSETFROM:+0100
TZOFFSETTO:+0200
TZNAME:CEST
DTSTART:20240331T010000
END:DAYLIGHT
BEGIN:STANDARD
TZOFFSETFROM:+0200
TZOFFSETTO:+0100
TZNAME:CET
DTSTART:20241027T010000
END:STANDARD
BEGIN:DAYLIGHT
TZOFFSETFROM:+0100
TZOFFSETTO:+0200
TZNAME:CEST
DTSTART:20250330T010000
END:DAYLIGHT
BEGIN:STANDARD
TZOFFSETFROM:+0200
TZOFFSETTO:+0100
TZNAME:CET
DTSTART:20251026T010000
END:STANDARD
END:VTIMEZONE
BEGIN:VEVENT
DTSTART;VALUE=DATE:20240525
DTEND;VALUE=DATE:20240526
DTSTAMP:20260424T160347
CREATED:20240424T092538Z
LAST-MODIFIED:20240424T092538Z
UID:37189-1716595200-1716681599@www.quincieux.fr
SUMMARY:Exposition peinture
DESCRIPTION:
URL:https://www.quincieux.fr/event/exposition-peinture/
LOCATION:Boulodrome
END:VEVENT
BEGIN:VEVENT
DTSTART;TZID=Europe/Paris:20240525T080000
DTEND;TZID=Europe/Paris:20240525T170000
DTSTAMP:20260424T160347
CREATED:20240206T151135Z
LAST-MODIFIED:20240206T151135Z
UID:35764-1716624000-1716656400@www.quincieux.fr
SUMMARY:Vente sur le marché
DESCRIPTION:
URL:https://www.quincieux.fr/event/vente-sur-le-marche/
LOCATION:Le marché
END:VEVENT
BEGIN:VEVENT
DTSTART;TZID=Europe/Paris:20240525T083000
DTEND;TZID=Europe/Paris:20240525T130000
DTSTAMP:20260424T160347
CREATED:20240419T102812Z
LAST-MODIFIED:20240419T102812Z
UID:37037-1716625800-1716642000@www.quincieux.fr
SUMMARY:Vente de Fleurs
DESCRIPTION:
URL:https://www.quincieux.fr/event/vente-de-fleurs-3/
LOCATION:Place de la bascule\, près du marché
END:VEVENT
BEGIN:VEVENT
DTSTART;TZID=Europe/Paris:20240525T110000
DTEND;TZID=Europe/Paris:20240525T113000
DTSTAMP:20260424T160347
CREATED:20240423T102731Z
LAST-MODIFIED:20240423T102731Z
UID:37102-1716634800-1716636600@www.quincieux.fr
SUMMARY:animation "les toutes p'tites oreilles"
DESCRIPTION:Nouveau rendez-vous pour les 0-3ANS \nLire c’est bon pour les bébés ! Un moment privilégié\, de partage\, de plaisir pour se rencontrer autour des livres. \nVenez partager ce premier rendez-vous.
URL:https://www.quincieux.fr/event/animation-les-toutes-ptites-oreilles/
LOCATION:Médiathèque Esqale\, Chemin Saint Laurent\, Quincieux
END:VEVENT
END:VCALENDAR