BEGIN:VCALENDAR
VERSION:2.0
PRODID:-//Mairie de Quincieux - ECPv6.15.18//NONSGML v1.0//EN
CALSCALE:GREGORIAN
METHOD:PUBLISH
X-WR-CALNAME:Mairie de Quincieux
X-ORIGINAL-URL:https://www.quincieux.fr
X-WR-CALDESC:Évènements pour Mairie de Quincieux
REFRESH-INTERVAL;VALUE=DURATION:PT1H
X-Robots-Tag:noindex
X-PUBLISHED-TTL:PT1H
BEGIN:VTIMEZONE
TZID:Europe/Paris
BEGIN:DAYLIGHT
TZOFFSETFROM:+0100
TZOFFSETTO:+0200
TZNAME:CEST
DTSTART:20230326T010000
END:DAYLIGHT
BEGIN:STANDARD
TZOFFSETFROM:+0200
TZOFFSETTO:+0100
TZNAME:CET
DTSTART:20231029T010000
END:STANDARD
BEGIN:DAYLIGHT
TZOFFSETFROM:+0100
TZOFFSETTO:+0200
TZNAME:CEST
DTSTART:20240331T010000
END:DAYLIGHT
BEGIN:STANDARD
TZOFFSETFROM:+0200
TZOFFSETTO:+0100
TZNAME:CET
DTSTART:20241027T010000
END:STANDARD
BEGIN:DAYLIGHT
TZOFFSETFROM:+0100
TZOFFSETTO:+0200
TZNAME:CEST
DTSTART:20250330T010000
END:DAYLIGHT
BEGIN:STANDARD
TZOFFSETFROM:+0200
TZOFFSETTO:+0100
TZNAME:CET
DTSTART:20251026T010000
END:STANDARD
END:VTIMEZONE
BEGIN:VEVENT
DTSTART;VALUE=DATE:20240417
DTEND;VALUE=DATE:20240501
DTSTAMP:20260424T182751
CREATED:20240406T100105Z
LAST-MODIFIED:20240409T141755Z
UID:36803-1713312000-1714521599@www.quincieux.fr
SUMMARY:Mediathèque Esqale "Valises Mystères"
DESCRIPTION:  Un message bien surprenant reçu à la médiathèque … \n\n\n\n« 17 avril - STOP - livraison 3 valises - STOP - Voyage - STOP - Lyon  - STOP - Flûte  - STOP» \n\n\n\nQue signifie cette étrange missive ? Le mystère plane à la médiathèque … \n\n\n\nVous avez l’âme d’un détective ? \n\n\n\nVous aimez percer les mystères et décoder ? \n\n\n\nAlors\, Venez nous aider à découvrir ce que contiennent ces valises !Prévisualiser (ouvre un nouvel onglet) \n\n\n\nÀ partir de 12 ans seul ou en mini-groupe \n\n\n\nDate :Du mercredi 17 avril au mardi 30 avril \n\n\n\nAux horaires d’ouverture de la médiathèque
URL:https://www.quincieux.fr/event/mediatheque-esqale-valises-mysteres/
LOCATION:Médiathèque Esqale\, Chemin Saint Laurent\, Quincieux
END:VEVENT
BEGIN:VEVENT
DTSTART;VALUE=DATE:20240427
DTEND;VALUE=DATE:20240429
DTSTAMP:20260424T182751
CREATED:20240202T163914Z
LAST-MODIFIED:20240419T134752Z
UID:35664-1714176000-1714348799@www.quincieux.fr
SUMMARY:Ball trapp
DESCRIPTION:
URL:https://www.quincieux.fr/event/concours-veterans-copy-copy-copy-2-copy-copy/
LOCATION:Les Chanaux
END:VEVENT
BEGIN:VEVENT
DTSTART;TZID=Europe/Paris:20240427T203000
DTEND;TZID=Europe/Paris:20240427T223000
DTSTAMP:20260424T182751
CREATED:20240423T133804Z
LAST-MODIFIED:20240423T133804Z
UID:37131-1714249800-1714257000@www.quincieux.fr
SUMMARY:Ensemble Musical de Quincieux
DESCRIPTION:Concert à Couzon-au-Mont-d’Or \nSamedi 27 avril\, 20h30 \nSalle des fêtes de Couzon-au-Mont-d’Or. \nLe Ganabrass\, ensemble de cuivres de Genay nous invite à un concert exceptionnel !
URL:https://www.quincieux.fr/event/ensemble-musical-de-quincieux/
END:VEVENT
END:VCALENDAR