BEGIN:VCALENDAR
VERSION:2.0
PRODID:-//Mairie de Quincieux - ECPv6.15.18//NONSGML v1.0//EN
CALSCALE:GREGORIAN
METHOD:PUBLISH
X-ORIGINAL-URL:https://www.quincieux.fr
X-WR-CALDESC:Évènements pour Mairie de Quincieux
REFRESH-INTERVAL;VALUE=DURATION:PT1H
X-Robots-Tag:noindex
X-PUBLISHED-TTL:PT1H
BEGIN:VTIMEZONE
TZID:Europe/Paris
BEGIN:DAYLIGHT
TZOFFSETFROM:+0100
TZOFFSETTO:+0200
TZNAME:CEST
DTSTART:20230326T010000
END:DAYLIGHT
BEGIN:STANDARD
TZOFFSETFROM:+0200
TZOFFSETTO:+0100
TZNAME:CET
DTSTART:20231029T010000
END:STANDARD
BEGIN:DAYLIGHT
TZOFFSETFROM:+0100
TZOFFSETTO:+0200
TZNAME:CEST
DTSTART:20240331T010000
END:DAYLIGHT
BEGIN:STANDARD
TZOFFSETFROM:+0200
TZOFFSETTO:+0100
TZNAME:CET
DTSTART:20241027T010000
END:STANDARD
BEGIN:DAYLIGHT
TZOFFSETFROM:+0100
TZOFFSETTO:+0200
TZNAME:CEST
DTSTART:20250330T010000
END:DAYLIGHT
BEGIN:STANDARD
TZOFFSETFROM:+0200
TZOFFSETTO:+0100
TZNAME:CET
DTSTART:20251026T010000
END:STANDARD
END:VTIMEZONE
BEGIN:VEVENT
DTSTART;VALUE=DATE:20240315
DTEND;VALUE=DATE:20240319
DTSTAMP:20260424T201825
CREATED:20240206T145350Z
LAST-MODIFIED:20240311T092309Z
UID:35741-1710460800-1710806399@www.quincieux.fr
SUMMARY:Fête des Conscrits 2024
DESCRIPTION:
URL:https://www.quincieux.fr/event/conscrits-2024/
LOCATION:village
END:VEVENT
BEGIN:VEVENT
DTSTART;TZID=Europe/Paris:20240316T110000
DTEND;TZID=Europe/Paris:20240316T120000
DTSTAMP:20260424T201825
CREATED:20240105T112555Z
LAST-MODIFIED:20240105T112555Z
UID:35040-1710586800-1710590400@www.quincieux.fr
SUMMARY:Accueil des nouveaux arrivants
DESCRIPTION:Vous venez de vous installer dans la commune ?\nGuidés par un souci constant de proximité et déterminés à faciliter au maximum l’intégration des nouveaux habitants\, la municipalité organise chaque année en mairie une cérémonie d’accueil des\nnouveaux arrivants.\nComme l’année dernière et afin de vous faire connaître cette belle fête des conscrits\, elle aura lieu le samedi 16 mars à 11h.\nCet accueil concerne tous les nouveaux arrivants installés en 2023 ou début 2024.\nSi vous n’avez pas reçu de carton d’invitation\, n’hésitez pas à vous faire connaître en mairie ou nous envoyer un mail à communication@quincieux.fr afin de pouvoir y participer.
URL:https://www.quincieux.fr/event/accueil-des-nouveaux-arrivants-2/
LOCATION:Mairie
END:VEVENT
END:VCALENDAR