BEGIN:VCALENDAR
VERSION:2.0
PRODID:-//Mairie de Quincieux - ECPv6.15.18//NONSGML v1.0//EN
CALSCALE:GREGORIAN
METHOD:PUBLISH
X-ORIGINAL-URL:https://www.quincieux.fr
X-WR-CALDESC:Évènements pour Mairie de Quincieux
REFRESH-INTERVAL;VALUE=DURATION:PT1H
X-Robots-Tag:noindex
X-PUBLISHED-TTL:PT1H
BEGIN:VTIMEZONE
TZID:Europe/Paris
BEGIN:DAYLIGHT
TZOFFSETFROM:+0100
TZOFFSETTO:+0200
TZNAME:CEST
DTSTART:20230326T010000
END:DAYLIGHT
BEGIN:STANDARD
TZOFFSETFROM:+0200
TZOFFSETTO:+0100
TZNAME:CET
DTSTART:20231029T010000
END:STANDARD
BEGIN:DAYLIGHT
TZOFFSETFROM:+0100
TZOFFSETTO:+0200
TZNAME:CEST
DTSTART:20240331T010000
END:DAYLIGHT
BEGIN:STANDARD
TZOFFSETFROM:+0200
TZOFFSETTO:+0100
TZNAME:CET
DTSTART:20241027T010000
END:STANDARD
BEGIN:DAYLIGHT
TZOFFSETFROM:+0100
TZOFFSETTO:+0200
TZNAME:CEST
DTSTART:20250330T010000
END:DAYLIGHT
BEGIN:STANDARD
TZOFFSETFROM:+0200
TZOFFSETTO:+0100
TZNAME:CET
DTSTART:20251026T010000
END:STANDARD
END:VTIMEZONE
BEGIN:VEVENT
DTSTART;TZID=Europe/Paris:20240309T090000
DTEND;TZID=Europe/Paris:20240309T120000
DTSTAMP:20260424T203119
CREATED:20240206T145037Z
LAST-MODIFIED:20240223T161721Z
UID:35737-1709974800-1709985600@www.quincieux.fr
SUMMARY:Vente de moules frites
DESCRIPTION:
URL:https://www.quincieux.fr/event/vente-festive-3/
LOCATION:Place de l’Eglise
END:VEVENT
BEGIN:VEVENT
DTSTART;TZID=Europe/Paris:20240309T203000
DTEND;TZID=Europe/Paris:20240309T230000
DTSTAMP:20260424T203119
CREATED:20240206T144035Z
LAST-MODIFIED:20240302T081638Z
UID:35732-1710016200-1710025200@www.quincieux.fr
SUMMARY:Orchestrades de l'Harmonie
DESCRIPTION:Les Orchestrades. \nChaque année\, nous accueillons des orchestres amis\, afin de partager une soirée musicale. \nCette année\, nos amis de Belleville-en-Beaujolais et l’Ensemble Orchestral de Lyon 9 seront avec nous pour cette soirée du samedi 9 mars. \nLe lendemain\, nous accueillerons une grande harmonie éphémère\, créée pour l’occasion\, qui offrira une œuvre du grand répertoire des Ensembles à vent ! \nGratuit
URL:https://www.quincieux.fr/event/les-orchestrades-copy/
LOCATION:Espace Maurice Plaisantin
END:VEVENT
END:VCALENDAR