BEGIN:VCALENDAR
VERSION:2.0
PRODID:-//Mairie de Quincieux - ECPv6.15.18//NONSGML v1.0//EN
CALSCALE:GREGORIAN
METHOD:PUBLISH
X-WR-CALNAME:Mairie de Quincieux
X-ORIGINAL-URL:https://www.quincieux.fr
X-WR-CALDESC:Évènements pour Mairie de Quincieux
REFRESH-INTERVAL;VALUE=DURATION:PT1H
X-Robots-Tag:noindex
X-PUBLISHED-TTL:PT1H
BEGIN:VTIMEZONE
TZID:Europe/Paris
BEGIN:DAYLIGHT
TZOFFSETFROM:+0100
TZOFFSETTO:+0200
TZNAME:CEST
DTSTART:20230326T010000
END:DAYLIGHT
BEGIN:STANDARD
TZOFFSETFROM:+0200
TZOFFSETTO:+0100
TZNAME:CET
DTSTART:20231029T010000
END:STANDARD
BEGIN:DAYLIGHT
TZOFFSETFROM:+0100
TZOFFSETTO:+0200
TZNAME:CEST
DTSTART:20240331T010000
END:DAYLIGHT
BEGIN:STANDARD
TZOFFSETFROM:+0200
TZOFFSETTO:+0100
TZNAME:CET
DTSTART:20241027T010000
END:STANDARD
BEGIN:DAYLIGHT
TZOFFSETFROM:+0100
TZOFFSETTO:+0200
TZNAME:CEST
DTSTART:20250330T010000
END:DAYLIGHT
BEGIN:STANDARD
TZOFFSETFROM:+0200
TZOFFSETTO:+0100
TZNAME:CET
DTSTART:20251026T010000
END:STANDARD
END:VTIMEZONE
BEGIN:VEVENT
DTSTART;TZID=Europe/Paris:20240223T140000
DTEND;TZID=Europe/Paris:20240223T163000
DTSTAMP:20260424T225135
CREATED:20240202T132826Z
LAST-MODIFIED:20240216T151619Z
UID:35630-1708696800-1708705800@www.quincieux.fr
SUMMARY:Crochet Thé - grenadine
DESCRIPTION:Initiation Crochet - Spécial vacances ! \nA partir de 12 ans\, sur réservation. \n  \nDécouverte des bases ?  lancez vous dans votre 1ère réalisation \nContinuer un ouvrage en cours ? Possible aussi \nCompter ses rangs\, monter ses mailles et tisser du lien \nRencontre\, échange\, partage\, conseils\, astuces\, idées ... \nSi vous avez de la laine\, du coton\, un crochet … Venez avec \nSinon … Nous partagerons notre matériel \n 
URL:https://www.quincieux.fr/event/crochet-the-grenadine/
LOCATION:Médiathèque Esqale\, Chemin Saint Laurent\, Quincieux
END:VEVENT
END:VCALENDAR