BEGIN:VCALENDAR
VERSION:2.0
PRODID:-//Mairie de Quincieux - ECPv6.15.18//NONSGML v1.0//EN
CALSCALE:GREGORIAN
METHOD:PUBLISH
X-ORIGINAL-URL:https://www.quincieux.fr
X-WR-CALDESC:Évènements pour Mairie de Quincieux
REFRESH-INTERVAL;VALUE=DURATION:PT1H
X-Robots-Tag:noindex
X-PUBLISHED-TTL:PT1H
BEGIN:VTIMEZONE
TZID:Europe/Paris
BEGIN:DAYLIGHT
TZOFFSETFROM:+0100
TZOFFSETTO:+0200
TZNAME:CEST
DTSTART:20230326T010000
END:DAYLIGHT
BEGIN:STANDARD
TZOFFSETFROM:+0200
TZOFFSETTO:+0100
TZNAME:CET
DTSTART:20231029T010000
END:STANDARD
BEGIN:DAYLIGHT
TZOFFSETFROM:+0100
TZOFFSETTO:+0200
TZNAME:CEST
DTSTART:20240331T010000
END:DAYLIGHT
BEGIN:STANDARD
TZOFFSETFROM:+0200
TZOFFSETTO:+0100
TZNAME:CET
DTSTART:20241027T010000
END:STANDARD
BEGIN:DAYLIGHT
TZOFFSETFROM:+0100
TZOFFSETTO:+0200
TZNAME:CEST
DTSTART:20250330T010000
END:DAYLIGHT
BEGIN:STANDARD
TZOFFSETFROM:+0200
TZOFFSETTO:+0100
TZNAME:CET
DTSTART:20251026T010000
END:STANDARD
END:VTIMEZONE
BEGIN:VEVENT
DTSTART;VALUE=DATE:20240217
DTEND;VALUE=DATE:20240218
DTSTAMP:20260424T213328
CREATED:20240202T140324Z
LAST-MODIFIED:20240202T140725Z
UID:35643-1708128000-1708214399@www.quincieux.fr
SUMMARY:Concours boules Cellier Neuvillois
DESCRIPTION:Concours 16 Quadrettes Nationale \ncoupe Cellier Neuvillois
URL:https://www.quincieux.fr/event/concours-boules-cellier-neuvillois/
LOCATION:Boulodrome
END:VEVENT
BEGIN:VEVENT
DTSTART;VALUE=DATE:20240217
DTEND;VALUE=DATE:20240218
DTSTAMP:20260424T213328
CREATED:20240202T155147Z
LAST-MODIFIED:20240202T163504Z
UID:35312-1708128000-1708214399@www.quincieux.fr
SUMMARY:Conscrits 2024 - Vente de brioches
DESCRIPTION:les infos en 1 clic
URL:https://www.quincieux.fr/event/conscrits-2024-inscriptions-des-10-ans-copy-copy/
LOCATION:village
END:VEVENT
END:VCALENDAR