BEGIN:VCALENDAR
VERSION:2.0
PRODID:-//Mairie de Quincieux - ECPv6.15.18//NONSGML v1.0//EN
CALSCALE:GREGORIAN
METHOD:PUBLISH
X-WR-CALNAME:Mairie de Quincieux
X-ORIGINAL-URL:https://www.quincieux.fr
X-WR-CALDESC:Évènements pour Mairie de Quincieux
REFRESH-INTERVAL;VALUE=DURATION:PT1H
X-Robots-Tag:noindex
X-PUBLISHED-TTL:PT1H
BEGIN:VTIMEZONE
TZID:Europe/Paris
BEGIN:DAYLIGHT
TZOFFSETFROM:+0100
TZOFFSETTO:+0200
TZNAME:CEST
DTSTART:20230326T010000
END:DAYLIGHT
BEGIN:STANDARD
TZOFFSETFROM:+0200
TZOFFSETTO:+0100
TZNAME:CET
DTSTART:20231029T010000
END:STANDARD
BEGIN:DAYLIGHT
TZOFFSETFROM:+0100
TZOFFSETTO:+0200
TZNAME:CEST
DTSTART:20240331T010000
END:DAYLIGHT
BEGIN:STANDARD
TZOFFSETFROM:+0200
TZOFFSETTO:+0100
TZNAME:CET
DTSTART:20241027T010000
END:STANDARD
BEGIN:DAYLIGHT
TZOFFSETFROM:+0100
TZOFFSETTO:+0200
TZNAME:CEST
DTSTART:20250330T010000
END:DAYLIGHT
BEGIN:STANDARD
TZOFFSETFROM:+0200
TZOFFSETTO:+0100
TZNAME:CET
DTSTART:20251026T010000
END:STANDARD
END:VTIMEZONE
BEGIN:VEVENT
DTSTART;TZID=Europe/Paris:20240210T080000
DTEND;TZID=Europe/Paris:20240210T120000
DTSTAMP:20260424T225909
CREATED:20240124T102707Z
LAST-MODIFIED:20240209T085008Z
UID:35439-1707552000-1707566400@www.quincieux.fr
SUMMARY:Vente de Bugnes
DESCRIPTION:
URL:https://www.quincieux.fr/event/vente-de-bugnes/
LOCATION:Maison des Associations
END:VEVENT
BEGIN:VEVENT
DTSTART;TZID=Europe/Paris:20240210T090000
DTEND;TZID=Europe/Paris:20240210T120000
DTSTAMP:20260424T225909
CREATED:20240127T102518Z
LAST-MODIFIED:20240127T102849Z
UID:35505-1707555600-1707566400@www.quincieux.fr
SUMMARY:Plantation d'une haie bocagère
DESCRIPTION:Marathon de la biodiversité. \nDans le cadre de la politique communale de replanter 5 000 arbres et arbustes durant le mandat \, nous organisons le samedi 10 février une journée citoyenne grand public et membres du Conseil Municipal. \nVenez participer à la plantation d’une haie bocagère chemin des Jacollets à partir de 9h00. \nVous pouvez vous inscrire dès a présent par mail contact@quincieux.fr. \n 
URL:https://www.quincieux.fr/event/plantation-dune-haie-bocagere/
LOCATION:chemin des Jaollets\, Jardins de Chamalan
END:VEVENT
BEGIN:VEVENT
DTSTART;TZID=Europe/Paris:20240210T103000
DTEND;TZID=Europe/Paris:20240210T120000
DTSTAMP:20260424T225909
CREATED:20240205T093227Z
LAST-MODIFIED:20240205T093227Z
UID:35696-1707561000-1707566400@www.quincieux.fr
SUMMARY:Les p'tites oreilles ....
DESCRIPTION:Rendez le samedi 10 février pour les histoires des P’tites oreilles ! \nAu plaisir de vous accueillir à partir de 4 ans \nSur inscription
URL:https://www.quincieux.fr/event/les-ptites-oreilles/
LOCATION:Médiathèque Esqale\, Chemin Saint Laurent\, Quincieux
END:VEVENT
BEGIN:VEVENT
DTSTART;TZID=Europe/Paris:20240210T140000
DTEND;TZID=Europe/Paris:20240210T170000
DTSTAMP:20260424T225909
CREATED:20240206T145820Z
LAST-MODIFIED:20240206T150103Z
UID:35747-1707573600-1707584400@www.quincieux.fr
SUMMARY:Stage Rocky Guinguette Danse
DESCRIPTION:stage java - valse
URL:https://www.quincieux.fr/event/stage-rocky-guinguette-danse-copy/
LOCATION:Salle Marcelle Lyonnet (Ancienne Poste)\, Route de Chasselay
ORGANIZER;CN="Rocky Guinguette Danse":MAILTO:vandrouxd267@gmail.com
END:VEVENT
END:VCALENDAR