BEGIN:VCALENDAR
VERSION:2.0
PRODID:-//Mairie de Quincieux - ECPv6.15.18//NONSGML v1.0//EN
CALSCALE:GREGORIAN
METHOD:PUBLISH
X-WR-CALNAME:Mairie de Quincieux
X-ORIGINAL-URL:https://www.quincieux.fr
X-WR-CALDESC:Évènements pour Mairie de Quincieux
REFRESH-INTERVAL;VALUE=DURATION:PT1H
X-Robots-Tag:noindex
X-PUBLISHED-TTL:PT1H
BEGIN:VTIMEZONE
TZID:Europe/Paris
BEGIN:DAYLIGHT
TZOFFSETFROM:+0100
TZOFFSETTO:+0200
TZNAME:CEST
DTSTART:20230326T010000
END:DAYLIGHT
BEGIN:STANDARD
TZOFFSETFROM:+0200
TZOFFSETTO:+0100
TZNAME:CET
DTSTART:20231029T010000
END:STANDARD
BEGIN:DAYLIGHT
TZOFFSETFROM:+0100
TZOFFSETTO:+0200
TZNAME:CEST
DTSTART:20240331T010000
END:DAYLIGHT
BEGIN:STANDARD
TZOFFSETFROM:+0200
TZOFFSETTO:+0100
TZNAME:CET
DTSTART:20241027T010000
END:STANDARD
BEGIN:DAYLIGHT
TZOFFSETFROM:+0100
TZOFFSETTO:+0200
TZNAME:CEST
DTSTART:20250330T010000
END:DAYLIGHT
BEGIN:STANDARD
TZOFFSETFROM:+0200
TZOFFSETTO:+0100
TZNAME:CET
DTSTART:20251026T010000
END:STANDARD
END:VTIMEZONE
BEGIN:VEVENT
DTSTART;TZID=Europe/Paris:20240127T100000
DTEND;TZID=Europe/Paris:20240127T100000
DTSTAMP:20260424T225007
CREATED:20240116T155442Z
LAST-MODIFIED:20240116T155756Z
UID:35314-1706349600-1706349600@www.quincieux.fr
SUMMARY:Conscrits 2024 - Inscriptions adultes
DESCRIPTION:les infos en 1 clic
URL:https://www.quincieux.fr/event/conscrits-2024-inscriptions-des-10-ans-copy-2/
LOCATION:chez kinou\, rue de la République
END:VEVENT
BEGIN:VEVENT
DTSTART;TZID=Europe/Paris:20240127T110000
DTEND;TZID=Europe/Paris:20240127T123000
DTSTAMP:20260424T225007
CREATED:20240105T155917Z
LAST-MODIFIED:20240105T162631Z
UID:35077-1706353200-1706358600@www.quincieux.fr
SUMMARY:Audition de poche
DESCRIPTION:
URL:https://www.quincieux.fr/event/audition-de-poche-4/
LOCATION:Ecole de Musique\, Route de Chasselay
END:VEVENT
BEGIN:VEVENT
DTSTART;TZID=Europe/Paris:20240127T200000
DTEND;TZID=Europe/Paris:20240127T233000
DTSTAMP:20260424T225007
CREATED:20240105T150319Z
LAST-MODIFIED:20240105T150319Z
UID:35075-1706385600-1706398200@www.quincieux.fr
SUMMARY:Passage du flambeau
DESCRIPTION:
URL:https://www.quincieux.fr/event/passage-du-flambeau/
LOCATION:Salle Yvonne Chemarin (MJC)
END:VEVENT
END:VCALENDAR