BEGIN:VCALENDAR
VERSION:2.0
PRODID:-//Mairie de Quincieux - ECPv6.15.18//NONSGML v1.0//EN
CALSCALE:GREGORIAN
METHOD:PUBLISH
X-WR-CALNAME:Mairie de Quincieux
X-ORIGINAL-URL:https://www.quincieux.fr
X-WR-CALDESC:Évènements pour Mairie de Quincieux
REFRESH-INTERVAL;VALUE=DURATION:PT1H
X-Robots-Tag:noindex
X-PUBLISHED-TTL:PT1H
BEGIN:VTIMEZONE
TZID:Europe/Paris
BEGIN:DAYLIGHT
TZOFFSETFROM:+0100
TZOFFSETTO:+0200
TZNAME:CEST
DTSTART:20230326T010000
END:DAYLIGHT
BEGIN:STANDARD
TZOFFSETFROM:+0200
TZOFFSETTO:+0100
TZNAME:CET
DTSTART:20231029T010000
END:STANDARD
BEGIN:DAYLIGHT
TZOFFSETFROM:+0100
TZOFFSETTO:+0200
TZNAME:CEST
DTSTART:20240331T010000
END:DAYLIGHT
BEGIN:STANDARD
TZOFFSETFROM:+0200
TZOFFSETTO:+0100
TZNAME:CET
DTSTART:20241027T010000
END:STANDARD
BEGIN:DAYLIGHT
TZOFFSETFROM:+0100
TZOFFSETTO:+0200
TZNAME:CEST
DTSTART:20250330T010000
END:DAYLIGHT
BEGIN:STANDARD
TZOFFSETFROM:+0200
TZOFFSETTO:+0100
TZNAME:CET
DTSTART:20251026T010000
END:STANDARD
END:VTIMEZONE
BEGIN:VEVENT
DTSTART;TZID=Europe/Paris:20240126T180000
DTEND;TZID=Europe/Paris:20240126T200000
DTSTAMP:20260424T225033
CREATED:20240116T155510Z
LAST-MODIFIED:20240116T160136Z
UID:35315-1706292000-1706299200@www.quincieux.fr
SUMMARY:Conscrits 2024 - Inscriptions des 10 ans
DESCRIPTION:les infos en 1 clic
URL:https://www.quincieux.fr/event/conscrits-2024-inscriptions-des-10-ans-copy-2-copy/
LOCATION:Salle Philippe Gagnière (salle Maison des Associations)\, Chemin Saint Laurent
END:VEVENT
BEGIN:VEVENT
DTSTART;TZID=Europe/Paris:20240126T190000
DTEND;TZID=Europe/Paris:20240126T203000
DTSTAMP:20260424T225033
CREATED:20240105T150108Z
LAST-MODIFIED:20240105T150108Z
UID:35072-1706295600-1706301000@www.quincieux.fr
SUMMARY:Assemblée Générale
DESCRIPTION:
URL:https://www.quincieux.fr/event/assemblee-generale-13/
LOCATION:Salle Marinette Lorchel\, Chemin Saint Laurent
END:VEVENT
BEGIN:VEVENT
DTSTART;TZID=Europe/Paris:20240126T193000
DTEND;TZID=Europe/Paris:20240126T193000
DTSTAMP:20260424T225033
CREATED:20240105T145754Z
LAST-MODIFIED:20240105T145754Z
UID:35070-1706297400-1706297400@www.quincieux.fr
SUMMARY:Assemblée Générale
DESCRIPTION:
URL:https://www.quincieux.fr/event/assemblee-generale-12/
LOCATION:Salle Marcelle Lyonnet (Ancienne Poste)\, Route de Chasselay
END:VEVENT
END:VCALENDAR