BEGIN:VCALENDAR
VERSION:2.0
PRODID:-//Mairie de Quincieux - ECPv6.15.18//NONSGML v1.0//EN
CALSCALE:GREGORIAN
METHOD:PUBLISH
X-ORIGINAL-URL:https://www.quincieux.fr
X-WR-CALDESC:Évènements pour Mairie de Quincieux
REFRESH-INTERVAL;VALUE=DURATION:PT1H
X-Robots-Tag:noindex
X-PUBLISHED-TTL:PT1H
BEGIN:VTIMEZONE
TZID:Europe/Paris
BEGIN:DAYLIGHT
TZOFFSETFROM:+0100
TZOFFSETTO:+0200
TZNAME:CEST
DTSTART:20230326T010000
END:DAYLIGHT
BEGIN:STANDARD
TZOFFSETFROM:+0200
TZOFFSETTO:+0100
TZNAME:CET
DTSTART:20231029T010000
END:STANDARD
BEGIN:DAYLIGHT
TZOFFSETFROM:+0100
TZOFFSETTO:+0200
TZNAME:CEST
DTSTART:20240331T010000
END:DAYLIGHT
BEGIN:STANDARD
TZOFFSETFROM:+0200
TZOFFSETTO:+0100
TZNAME:CET
DTSTART:20241027T010000
END:STANDARD
BEGIN:DAYLIGHT
TZOFFSETFROM:+0100
TZOFFSETTO:+0200
TZNAME:CEST
DTSTART:20250330T010000
END:DAYLIGHT
BEGIN:STANDARD
TZOFFSETFROM:+0200
TZOFFSETTO:+0100
TZNAME:CET
DTSTART:20251026T010000
END:STANDARD
END:VTIMEZONE
BEGIN:VEVENT
DTSTART;TZID=Europe/Paris:20240120T100000
DTEND;TZID=Europe/Paris:20240120T120000
DTSTAMP:20260424T225444
CREATED:20240116T125358Z
LAST-MODIFIED:20240116T151352Z
UID:35274-1705744800-1705752000@www.quincieux.fr
SUMMARY:Nuits de la Lecture
DESCRIPTION:La Grange à Sons\, en partenariat avec la Médiathèque Esqale de Quincieux\, vous convie samedi 20 janvier dans les locaux de la médiathèque. \nEN-CORPS des lectures à voix haute pour les grandes oreilles\, autour de l’anatomie\, l’identité\, le genre\, la mort. \nVenez écouter ces lectures mises en espace\, pour deux séquences\, à 10h et à 11h. (env 45 mn chacune)
URL:https://www.quincieux.fr/event/nuits-de-la-lecture/
LOCATION:Médiathèque Esqale\, Chemin Saint Laurent\, Quincieux
CATEGORIES:Culture
END:VEVENT
BEGIN:VEVENT
DTSTART;TZID=Europe/Paris:20240120T100000
DTEND;TZID=Europe/Paris:20240120T130000
DTSTAMP:20260424T225444
CREATED:20240116T155524Z
LAST-MODIFIED:20240116T155640Z
UID:35317-1705744800-1705755600@www.quincieux.fr
SUMMARY:Conscrits 2024 - Inscriptions adultes
DESCRIPTION:les infos en 1 clic
URL:https://www.quincieux.fr/event/conscrits-2024-inscriptions-des-10-ans-copy-2-copy-copy/
LOCATION:chez kinou\, rue de la République
END:VEVENT
END:VCALENDAR