BEGIN:VCALENDAR
VERSION:2.0
PRODID:-//Mairie de Quincieux - ECPv6.15.18//NONSGML v1.0//EN
CALSCALE:GREGORIAN
METHOD:PUBLISH
X-WR-CALNAME:Mairie de Quincieux
X-ORIGINAL-URL:https://www.quincieux.fr
X-WR-CALDESC:Évènements pour Mairie de Quincieux
REFRESH-INTERVAL;VALUE=DURATION:PT1H
X-Robots-Tag:noindex
X-PUBLISHED-TTL:PT1H
BEGIN:VTIMEZONE
TZID:Europe/Paris
BEGIN:DAYLIGHT
TZOFFSETFROM:+0100
TZOFFSETTO:+0200
TZNAME:CEST
DTSTART:20230326T010000
END:DAYLIGHT
BEGIN:STANDARD
TZOFFSETFROM:+0200
TZOFFSETTO:+0100
TZNAME:CET
DTSTART:20231029T010000
END:STANDARD
BEGIN:DAYLIGHT
TZOFFSETFROM:+0100
TZOFFSETTO:+0200
TZNAME:CEST
DTSTART:20240331T010000
END:DAYLIGHT
BEGIN:STANDARD
TZOFFSETFROM:+0200
TZOFFSETTO:+0100
TZNAME:CET
DTSTART:20241027T010000
END:STANDARD
BEGIN:DAYLIGHT
TZOFFSETFROM:+0100
TZOFFSETTO:+0200
TZNAME:CEST
DTSTART:20250330T010000
END:DAYLIGHT
BEGIN:STANDARD
TZOFFSETFROM:+0200
TZOFFSETTO:+0100
TZNAME:CET
DTSTART:20251026T010000
END:STANDARD
END:VTIMEZONE
BEGIN:VEVENT
DTSTART;TZID=Europe/Paris:20240119T150000
DTEND;TZID=Europe/Paris:20240119T190000
DTSTAMP:20260424T225008
CREATED:20231229T093057Z
LAST-MODIFIED:20231229T093143Z
UID:34977-1705676400-1705690800@www.quincieux.fr
SUMMARY:Don du sang
DESCRIPTION:Prendre rendez vous : dondesang.efs.sante.fr \n 
URL:https://www.quincieux.fr/event/don-du-sang/
LOCATION:Salle Yvonne Chemarin (MJC)
END:VEVENT
BEGIN:VEVENT
DTSTART;TZID=Europe/Paris:20240119T183000
DTEND;TZID=Europe/Paris:20240119T193000
DTSTAMP:20260424T225008
CREATED:20240116T125404Z
LAST-MODIFIED:20240116T150650Z
UID:35277-1705689000-1705692600@www.quincieux.fr
SUMMARY:Nuits de la Lecture
DESCRIPTION:Les Nuits de la Lecture\, évènement national du 18 au 21 janvier \nthème de cette année : le corps \nÀ cette occasion \, la médiathèque vous propose : Lectures\, déambulations … \nLe corps se lit … un corps et un esprit en mouvement ! \nDeux dates : \n\nVendredi 19 janvier à 18h30 - P’tites oreilles  (à partir de 6 ans) / Sur réservation\nSamedi 20 janvier 2 séances : 10h00 et 11h15  - Grandes oreilles ado/adulte -  Accès libre - Animation en partenariat avec La Grange à Sons
URL:https://www.quincieux.fr/event/nuits-de-la-lecture-copy/
LOCATION:Médiathèque Esqale\, Chemin Saint Laurent\, Quincieux
CATEGORIES:Culture
END:VEVENT
BEGIN:VEVENT
DTSTART;TZID=Europe/Paris:20240119T200000
DTEND;TZID=Europe/Paris:20240119T200000
DTSTAMP:20260424T225008
CREATED:20240105T143519Z
LAST-MODIFIED:20240105T144821Z
UID:35064-1705694400-1705694400@www.quincieux.fr
SUMMARY:Assemblée Générale
DESCRIPTION:
URL:https://www.quincieux.fr/event/assemblee-generale-10/
LOCATION:Salle Philippe Gagnière (salle Maison des Associations)\, Chemin Saint Laurent
END:VEVENT
BEGIN:VEVENT
DTSTART;TZID=Europe/Paris:20240119T200000
DTEND;TZID=Europe/Paris:20240119T200000
DTSTAMP:20260424T225008
CREATED:20240105T143409Z
LAST-MODIFIED:20240105T143409Z
UID:35062-1705694400-1705694400@www.quincieux.fr
SUMMARY:Tirage des Rois
DESCRIPTION:
URL:https://www.quincieux.fr/event/tirage-des-rois-4/
LOCATION:Salle l’Evidence\, Rue des Flandres\, Quinci
END:VEVENT
BEGIN:VEVENT
DTSTART;TZID=Europe/Paris:20240119T200000
DTEND;TZID=Europe/Paris:20240119T200000
DTSTAMP:20260424T225008
CREATED:20240105T143304Z
LAST-MODIFIED:20240105T143304Z
UID:35060-1705694400-1705694400@www.quincieux.fr
SUMMARY:Assemblée Générale
DESCRIPTION:
URL:https://www.quincieux.fr/event/assemblee-generale-9/
LOCATION:Salle Marcelle Lyonnet (Ancienne Poste)\, Route de Chasselay
END:VEVENT
END:VCALENDAR