BEGIN:VCALENDAR
VERSION:2.0
PRODID:-//Mairie de Quincieux - ECPv6.15.18//NONSGML v1.0//EN
CALSCALE:GREGORIAN
METHOD:PUBLISH
X-WR-CALNAME:Mairie de Quincieux
X-ORIGINAL-URL:https://www.quincieux.fr
X-WR-CALDESC:Évènements pour Mairie de Quincieux
REFRESH-INTERVAL;VALUE=DURATION:PT1H
X-Robots-Tag:noindex
X-PUBLISHED-TTL:PT1H
BEGIN:VTIMEZONE
TZID:Europe/Paris
BEGIN:DAYLIGHT
TZOFFSETFROM:+0100
TZOFFSETTO:+0200
TZNAME:CEST
DTSTART:20230326T010000
END:DAYLIGHT
BEGIN:STANDARD
TZOFFSETFROM:+0200
TZOFFSETTO:+0100
TZNAME:CET
DTSTART:20231029T010000
END:STANDARD
BEGIN:DAYLIGHT
TZOFFSETFROM:+0100
TZOFFSETTO:+0200
TZNAME:CEST
DTSTART:20240331T010000
END:DAYLIGHT
BEGIN:STANDARD
TZOFFSETFROM:+0200
TZOFFSETTO:+0100
TZNAME:CET
DTSTART:20241027T010000
END:STANDARD
BEGIN:DAYLIGHT
TZOFFSETFROM:+0100
TZOFFSETTO:+0200
TZNAME:CEST
DTSTART:20250330T010000
END:DAYLIGHT
BEGIN:STANDARD
TZOFFSETFROM:+0200
TZOFFSETTO:+0100
TZNAME:CET
DTSTART:20251026T010000
END:STANDARD
END:VTIMEZONE
BEGIN:VEVENT
DTSTART;TZID=Europe/Paris:20240112T143000
DTEND;TZID=Europe/Paris:20240112T153000
DTSTAMP:20260424T225034
CREATED:20231108T102217Z
LAST-MODIFIED:20240105T142636Z
UID:34417-1705069800-1705073400@www.quincieux.fr
SUMMARY:Rendez-vous mensuel : Tricot Thé Crochet !
DESCRIPTION:Que vous soyez novices ou amateurs\, découvrez les bases du crochet ou continuez votre ouvrage lors d’un moment convivial ! \nCompter ses rangs\, monter ses mailles et tisser du lien \nRencontre\, échange\, partage\, conseils\, astuces\, idées ... \nSi vous avez de la laine\, des crochets ou des aiguilles : venez avec ! \nSinon … nous partagerons notre matériel \nLe deuxième vendredi de chaque mois  \nProchains rendez-vous : Les vendredis 10 novembre - 8 décembre - 12 janvier \nTout public - entrée libre sans inscription \nAu plaisir !
URL:https://www.quincieux.fr/event/un-nouveau-rendez-vous-a-la-mediatheque-tricot-the-crochet-copy-2/
LOCATION:Médiathèque Esqale\, Chemin Saint Laurent\, Quincieux
END:VEVENT
BEGIN:VEVENT
DTSTART;TZID=Europe/Paris:20240112T190000
DTEND;TZID=Europe/Paris:20240112T210000
DTSTAMP:20260424T225034
CREATED:20231211T160932Z
LAST-MODIFIED:20240105T142505Z
UID:34831-1705086000-1705093200@www.quincieux.fr
SUMMARY:Tirage des rois
DESCRIPTION:
URL:https://www.quincieux.fr/event/tirage-des-rois-2/
LOCATION:Salle Marcelle Lyonnet (Ancienne Poste)\, Route de Chasselay
END:VEVENT
BEGIN:VEVENT
DTSTART;TZID=Europe/Paris:20240112T190000
DTEND;TZID=Europe/Paris:20240112T220000
DTSTAMP:20260424T225034
CREATED:20231211T160817Z
LAST-MODIFIED:20231211T160817Z
UID:34829-1705086000-1705096800@www.quincieux.fr
SUMMARY:Assemblée Générale
DESCRIPTION:
URL:https://www.quincieux.fr/event/assemblee-generale-6/
LOCATION:Salle Yvonne Chemarin (MJC)
END:VEVENT
END:VCALENDAR