BEGIN:VCALENDAR
VERSION:2.0
PRODID:-//Mairie de Quincieux - ECPv6.15.18//NONSGML v1.0//EN
CALSCALE:GREGORIAN
METHOD:PUBLISH
X-ORIGINAL-URL:https://www.quincieux.fr
X-WR-CALDESC:Évènements pour Mairie de Quincieux
REFRESH-INTERVAL;VALUE=DURATION:PT1H
X-Robots-Tag:noindex
X-PUBLISHED-TTL:PT1H
BEGIN:VTIMEZONE
TZID:Europe/Paris
BEGIN:DAYLIGHT
TZOFFSETFROM:+0100
TZOFFSETTO:+0200
TZNAME:CEST
DTSTART:20220327T010000
END:DAYLIGHT
BEGIN:STANDARD
TZOFFSETFROM:+0200
TZOFFSETTO:+0100
TZNAME:CET
DTSTART:20221030T010000
END:STANDARD
BEGIN:DAYLIGHT
TZOFFSETFROM:+0100
TZOFFSETTO:+0200
TZNAME:CEST
DTSTART:20230326T010000
END:DAYLIGHT
BEGIN:STANDARD
TZOFFSETFROM:+0200
TZOFFSETTO:+0100
TZNAME:CET
DTSTART:20231029T010000
END:STANDARD
BEGIN:DAYLIGHT
TZOFFSETFROM:+0100
TZOFFSETTO:+0200
TZNAME:CEST
DTSTART:20240331T010000
END:DAYLIGHT
BEGIN:STANDARD
TZOFFSETFROM:+0200
TZOFFSETTO:+0100
TZNAME:CET
DTSTART:20241027T010000
END:STANDARD
END:VTIMEZONE
BEGIN:VEVENT
DTSTART;TZID=Europe/Paris:20231216T080000
DTEND;TZID=Europe/Paris:20231216T130000
DTSTAMP:20260425T001519
CREATED:20230929T150059Z
LAST-MODIFIED:20230929T150129Z
UID:33739-1702713600-1702731600@www.quincieux.fr
SUMMARY:Traditionnelle vente festive d'huîtres\, escargots et autres mets de Noël
DESCRIPTION:
URL:https://www.quincieux.fr/event/traditionnelle-vente-festive-dhuitres-escargots-et-autres-mets-de-noel/
CATEGORIES:Association
END:VEVENT
BEGIN:VEVENT
DTSTART;TZID=Europe/Paris:20231216T100000
DTEND;TZID=Europe/Paris:20231216T110000
DTSTAMP:20260425T001519
CREATED:20231211T155440Z
LAST-MODIFIED:20231211T155440Z
UID:34818-1702720800-1702724400@www.quincieux.fr
SUMMARY:Rendez-vous p'tites oreilles à l'Esqale
DESCRIPTION:Cette fois-ci toujours en attendant Noël … \nLe Rendez-vous P’tites oreilles du mois : le 16 décembre à 10h30 \nAu programme ? \nHo ho ho ho ho ! … neige\, flocons\, bulles de savon\, son de cristal … et … une pointe de rouge ! \nà partir de 4 ans sur réservation
URL:https://www.quincieux.fr/event/rendez-vous-ptites-oreilles-a-lesqale/
LOCATION:Médiathèque Esqale\, Chemin Saint Laurent\, Quincieux
END:VEVENT
BEGIN:VEVENT
DTSTART;TZID=Europe/Paris:20231216T103000
DTEND;TZID=Europe/Paris:20231216T120000
DTSTAMP:20260425T001519
CREATED:20231120T100833Z
LAST-MODIFIED:20231120T101152Z
UID:34554-1702722600-1702728000@www.quincieux.fr
SUMMARY:Atelier FUROSHIKI à la Médiathèque Esqale
DESCRIPTION:La médiathèque vous propose un atelier FUROSHIKI\nVenez découvrir cette technique de pliage et de nouage de tissu\, d’origine japonaise\, utilisée pour emballer les cadeaux\, transporter ses effets … \n \nLe Furoshiki c’est aussi une pratique éco-citoyenne de réduction des déchets !\n\nVendredi 24 novembre de 17h00 à 18h30\nSamedi 16 décembre de 10h30 à 12h00\n\nRendez-vous un ¼ d’heure avant  \nAtelier animé par Fumiko de l’Atelier 23\nPublic : Ado-adulte\nGratuit sur réservation - places limitées \n \nAu plaisir de vous accueillir
URL:https://www.quincieux.fr/event/atelier-furoshiki-a-la-mediatheque-esqale/
END:VEVENT
END:VCALENDAR