BEGIN:VCALENDAR
VERSION:2.0
PRODID:-//Mairie de Quincieux - ECPv6.15.18//NONSGML v1.0//EN
CALSCALE:GREGORIAN
METHOD:PUBLISH
X-ORIGINAL-URL:https://www.quincieux.fr
X-WR-CALDESC:Évènements pour Mairie de Quincieux
REFRESH-INTERVAL;VALUE=DURATION:PT1H
X-Robots-Tag:noindex
X-PUBLISHED-TTL:PT1H
BEGIN:VTIMEZONE
TZID:Europe/Paris
BEGIN:DAYLIGHT
TZOFFSETFROM:+0100
TZOFFSETTO:+0200
TZNAME:CEST
DTSTART:20220327T010000
END:DAYLIGHT
BEGIN:STANDARD
TZOFFSETFROM:+0200
TZOFFSETTO:+0100
TZNAME:CET
DTSTART:20221030T010000
END:STANDARD
BEGIN:DAYLIGHT
TZOFFSETFROM:+0100
TZOFFSETTO:+0200
TZNAME:CEST
DTSTART:20230326T010000
END:DAYLIGHT
BEGIN:STANDARD
TZOFFSETFROM:+0200
TZOFFSETTO:+0100
TZNAME:CET
DTSTART:20231029T010000
END:STANDARD
BEGIN:DAYLIGHT
TZOFFSETFROM:+0100
TZOFFSETTO:+0200
TZNAME:CEST
DTSTART:20240331T010000
END:DAYLIGHT
BEGIN:STANDARD
TZOFFSETFROM:+0200
TZOFFSETTO:+0100
TZNAME:CET
DTSTART:20241027T010000
END:STANDARD
END:VTIMEZONE
BEGIN:VEVENT
DTSTART;TZID=Europe/Paris:20231209T073000
DTEND;TZID=Europe/Paris:20231209T123000
DTSTAMP:20260425T001617
CREATED:20240108T160441Z
LAST-MODIFIED:20240108T160441Z
UID:35138-1702107000-1702125000@www.quincieux.fr
SUMMARY:Rencontre avec les élus sur le marché forain Exemplaire
DESCRIPTION:
URL:https://www.quincieux.fr/event/rencontre-avec-les-elus-sur-le-marche-forain-copy-3/
LOCATION:Sur le marché\, rue du Commerce
CATEGORIES:Municipalité
END:VEVENT
BEGIN:VEVENT
DTSTART;TZID=Europe/Paris:20231209T160000
DTEND;TZID=Europe/Paris:20231209T233000
DTSTAMP:20260425T001617
CREATED:20230929T145738Z
LAST-MODIFIED:20230929T145738Z
UID:33737-1702137600-1702164600@www.quincieux.fr
SUMMARY:Sainte Barbe
DESCRIPTION:
URL:https://www.quincieux.fr/event/sainte-barbe/
LOCATION:Salle Yvonne Chemarin (MJC)
CATEGORIES:Association
END:VEVENT
BEGIN:VEVENT
DTSTART;TZID=Europe/Paris:20231209T200000
DTEND;TZID=Europe/Paris:20231209T233000
DTSTAMP:20260425T001617
CREATED:20230413T213235Z
LAST-MODIFIED:20231205T083314Z
UID:30849-1702152000-1702164600@www.quincieux.fr
SUMMARY:Concert Ciné Zik
DESCRIPTION:Spectacle de Musique et Cinéma \nAvec : \n- Classe Orchestre de Quincieux \n- Orchestre Junior de Quincieux \n- Le Choeur d'Enfants de Quincieux \n- et l'Harmonie de Quincieux \nNous invitons également les enfants de l'école élémentaire à participer au spectacle ! \n* Des grands classiques : Miss Daisy et son Chauffeur\, Les Temps Modernes \n* Des classiques pour tous les âges : Aladdin\, Rio\, Rocky etc. \n* Des œuvres plus confidentielles : Fantôme de l'Opéra. \n* Du gros blockbuster : Gladiator\, Pirate des Caraïbes\, etc. \n* Du cinéma qui change un peu : Voyage de Chihiro \n* Des films dernière génération : Encanto\, Guardiens de la Galaxie vol.3\, \nUn moment de partage entre image et musique\, entre les générations et entre les voix et les instruments \nA ne surtout pas manquer ! \nVous étiez plus de 500 l'an passé ... on fait exploser le record ?! \n------ \nGratuit
URL:https://www.quincieux.fr/event/concert/
LOCATION:Espace Maurice Plaisantin
CATEGORIES:Association
END:VEVENT
END:VCALENDAR