BEGIN:VCALENDAR
VERSION:2.0
PRODID:-//Mairie de Quincieux - ECPv6.15.18//NONSGML v1.0//EN
CALSCALE:GREGORIAN
METHOD:PUBLISH
X-WR-CALNAME:Mairie de Quincieux
X-ORIGINAL-URL:https://www.quincieux.fr
X-WR-CALDESC:Évènements pour Mairie de Quincieux
REFRESH-INTERVAL;VALUE=DURATION:PT1H
X-Robots-Tag:noindex
X-PUBLISHED-TTL:PT1H
BEGIN:VTIMEZONE
TZID:Europe/Paris
BEGIN:DAYLIGHT
TZOFFSETFROM:+0100
TZOFFSETTO:+0200
TZNAME:CEST
DTSTART:20220327T010000
END:DAYLIGHT
BEGIN:STANDARD
TZOFFSETFROM:+0200
TZOFFSETTO:+0100
TZNAME:CET
DTSTART:20221030T010000
END:STANDARD
BEGIN:DAYLIGHT
TZOFFSETFROM:+0100
TZOFFSETTO:+0200
TZNAME:CEST
DTSTART:20230326T010000
END:DAYLIGHT
BEGIN:STANDARD
TZOFFSETFROM:+0200
TZOFFSETTO:+0100
TZNAME:CET
DTSTART:20231029T010000
END:STANDARD
BEGIN:DAYLIGHT
TZOFFSETFROM:+0100
TZOFFSETTO:+0200
TZNAME:CEST
DTSTART:20240331T010000
END:DAYLIGHT
BEGIN:STANDARD
TZOFFSETFROM:+0200
TZOFFSETTO:+0100
TZNAME:CET
DTSTART:20241027T010000
END:STANDARD
END:VTIMEZONE
BEGIN:VEVENT
DTSTART;TZID=Europe/Paris:20231202T120000
DTEND;TZID=Europe/Paris:20231202T180000
DTSTAMP:20260425T001052
CREATED:20230413T212857Z
LAST-MODIFIED:20230929T144647Z
UID:30840-1701518400-1701540000@www.quincieux.fr
SUMMARY:Repas des aînés
DESCRIPTION:En fin d'année\, le Centre Communale d'Action Sociale (CCAS) offre aux quincerots de 75 ans et plus\, un repas ou un colis. \nVous êtes nouvel arrivant\, inscrivez-vous en mairie avant le 1er novembre. \ndocuments à fournir : \n\nune pièce d'identité\nun justificatif de domicile
URL:https://www.quincieux.fr/event/repas-des-aines/
LOCATION:Salle Yvonne Chemarin (MJC)
CATEGORIES:Municipalité
END:VEVENT
END:VCALENDAR