BEGIN:VCALENDAR
VERSION:2.0
PRODID:-//Mairie de Quincieux - ECPv6.15.18//NONSGML v1.0//EN
CALSCALE:GREGORIAN
METHOD:PUBLISH
X-WR-CALNAME:Mairie de Quincieux
X-ORIGINAL-URL:https://www.quincieux.fr
X-WR-CALDESC:Évènements pour Mairie de Quincieux
REFRESH-INTERVAL;VALUE=DURATION:PT1H
X-Robots-Tag:noindex
X-PUBLISHED-TTL:PT1H
BEGIN:VTIMEZONE
TZID:Europe/Paris
BEGIN:DAYLIGHT
TZOFFSETFROM:+0100
TZOFFSETTO:+0200
TZNAME:CEST
DTSTART:20220327T010000
END:DAYLIGHT
BEGIN:STANDARD
TZOFFSETFROM:+0200
TZOFFSETTO:+0100
TZNAME:CET
DTSTART:20221030T010000
END:STANDARD
BEGIN:DAYLIGHT
TZOFFSETFROM:+0100
TZOFFSETTO:+0200
TZNAME:CEST
DTSTART:20230326T010000
END:DAYLIGHT
BEGIN:STANDARD
TZOFFSETFROM:+0200
TZOFFSETTO:+0100
TZNAME:CET
DTSTART:20231029T010000
END:STANDARD
BEGIN:DAYLIGHT
TZOFFSETFROM:+0100
TZOFFSETTO:+0200
TZNAME:CEST
DTSTART:20240331T010000
END:DAYLIGHT
BEGIN:STANDARD
TZOFFSETFROM:+0200
TZOFFSETTO:+0100
TZNAME:CET
DTSTART:20241027T010000
END:STANDARD
END:VTIMEZONE
BEGIN:VEVENT
DTSTART;TZID=Europe/Paris:20231117T170000
DTEND;TZID=Europe/Paris:20231118T130000
DTSTAMP:20260425T025200
CREATED:20230413T212113Z
LAST-MODIFIED:20231108T111352Z
UID:30827-1700240400-1700312400@www.quincieux.fr
SUMMARY:Vente saucissons beaujolais
DESCRIPTION:
URL:https://www.quincieux.fr/event/vente-saucissons-beaujolais/
CATEGORIES:Association
END:VEVENT
BEGIN:VEVENT
DTSTART;TZID=Europe/Paris:20231118T103000
DTEND;TZID=Europe/Paris:20231118T113000
DTSTAMP:20260425T025200
CREATED:20231109T084600Z
LAST-MODIFIED:20231109T084600Z
UID:34426-1700303400-1700307000@www.quincieux.fr
SUMMARY:Médiathèque Esqale
DESCRIPTION:RDV "P’tites oreilles" mais pas que ! \nLe Kamishibaï ? … Un théâtre d'image ! \nNous vous donnons rendez-vous le samedi 18 novembre à 10h30 à la médiathèque \nLes animaux sont fin prêts pour vous conter\, d'image en image\, leurs aventures et mésaventures ! \nA partir de 4 ans \nGratuit sur inscription \n\nAu plaisir de partager avec vous !
URL:https://www.quincieux.fr/event/mediatheque-esqale/
LOCATION:Médiathèque Esqale\, Chemin Saint Laurent\, Quincieux
END:VEVENT
BEGIN:VEVENT
DTSTART;TZID=Europe/Paris:20231118T110000
DTEND;TZID=Europe/Paris:20231118T130000
DTSTAMP:20260425T025200
CREATED:20230413T212339Z
LAST-MODIFIED:20230929T143512Z
UID:30831-1700305200-1700312400@www.quincieux.fr
SUMMARY:Concert des Profs
DESCRIPTION:
URL:https://www.quincieux.fr/event/audition-de-poche/
LOCATION:Ecole de Musique\, Route de Chasselay
CATEGORIES:Association
ATTACH;FMTTYPE=image/jpeg:https://www.quincieux.fr/wp-content/uploads/2023/04/EMQ-Concert-des-Profs.jpg
END:VEVENT
BEGIN:VEVENT
DTSTART;TZID=Europe/Paris:20231118T203000
DTEND;TZID=Europe/Paris:20231118T233000
DTSTAMP:20260425T025200
CREATED:20230413T212231Z
LAST-MODIFIED:20231020T080834Z
UID:30829-1700339400-1700350200@www.quincieux.fr
SUMMARY:Bal Folk
DESCRIPTION:Zween\, ça veut dire beau\, et bon… Comme un bal !\nDanseurs expérimentés ou novices\, venez profiter des cercles endiablés\, mazurkas langoureuses\, et autres pas trad sur notre musique toute neuve.\nAvec deux accordéons diatoniques\, une clarinette\, une guitare et un pandeiro\, nous vous invitons à partager des moments de fête et d’émotions\, au-delà des frontières des âges\, des cultures et des styles.
URL:https://www.quincieux.fr/event/musi-casscroute/
LOCATION:Salle Yvonne Chemarin (MJC)
CATEGORIES:Association
END:VEVENT
END:VCALENDAR