BEGIN:VCALENDAR
VERSION:2.0
PRODID:-//Mairie de Quincieux - ECPv6.15.18//NONSGML v1.0//EN
CALSCALE:GREGORIAN
METHOD:PUBLISH
X-ORIGINAL-URL:https://www.quincieux.fr
X-WR-CALDESC:Évènements pour Mairie de Quincieux
REFRESH-INTERVAL;VALUE=DURATION:PT1H
X-Robots-Tag:noindex
X-PUBLISHED-TTL:PT1H
BEGIN:VTIMEZONE
TZID:Europe/Paris
BEGIN:DAYLIGHT
TZOFFSETFROM:+0100
TZOFFSETTO:+0200
TZNAME:CEST
DTSTART:20220327T010000
END:DAYLIGHT
BEGIN:STANDARD
TZOFFSETFROM:+0200
TZOFFSETTO:+0100
TZNAME:CET
DTSTART:20221030T010000
END:STANDARD
BEGIN:DAYLIGHT
TZOFFSETFROM:+0100
TZOFFSETTO:+0200
TZNAME:CEST
DTSTART:20230326T010000
END:DAYLIGHT
BEGIN:STANDARD
TZOFFSETFROM:+0200
TZOFFSETTO:+0100
TZNAME:CET
DTSTART:20231029T010000
END:STANDARD
BEGIN:DAYLIGHT
TZOFFSETFROM:+0100
TZOFFSETTO:+0200
TZNAME:CEST
DTSTART:20240331T010000
END:DAYLIGHT
BEGIN:STANDARD
TZOFFSETFROM:+0200
TZOFFSETTO:+0100
TZNAME:CET
DTSTART:20241027T010000
END:STANDARD
END:VTIMEZONE
BEGIN:VEVENT
DTSTART;TZID=Europe/Paris:20231117T170000
DTEND;TZID=Europe/Paris:20231118T130000
DTSTAMP:20260425T013338
CREATED:20230413T212113Z
LAST-MODIFIED:20231108T111352Z
UID:30827-1700240400-1700312400@www.quincieux.fr
SUMMARY:Vente saucissons beaujolais
DESCRIPTION:
URL:https://www.quincieux.fr/event/vente-saucissons-beaujolais/
CATEGORIES:Association
END:VEVENT
BEGIN:VEVENT
DTSTART;TZID=Europe/Paris:20231117T203000
DTEND;TZID=Europe/Paris:20231117T203000
DTSTAMP:20260425T013338
CREATED:20230929T141058Z
LAST-MODIFIED:20230929T141615Z
UID:33711-1700253000-1700253000@www.quincieux.fr
SUMMARY:Festival Saône en Scène
DESCRIPTION:DA BREACK \nImaginez une musique chaleureuse dédiée corps et âme au groove. Ouvrez les yeux et vous trouverez Da Break\, quintet lyonnais\, qui puise dans ses amours fécondes pour les musiques black américaines\, de la soul vintage au hip-hop (option côte Ouest et vieille école)\, sans se priver de lorgner vers le R’n’B et le funk. Sur ses trois albums comme sur scène\, le groupe décline ainsi des chansons habitées par la voix d’Hawa\, qui allie avec une étourdissante facilité puissance et douceur\, et emmenées par une science des rythmes élastiques. Da Break vous invite à entrer dans la danse et il est impossible d’y résister ! \nSaône en Scènes
URL:https://www.quincieux.fr/event/festival-saone-en-scene/
LOCATION:Salle Yvonne Chemarin (MJC)
END:VEVENT
END:VCALENDAR