BEGIN:VCALENDAR
VERSION:2.0
PRODID:-//Mairie de Quincieux - ECPv6.15.18//NONSGML v1.0//EN
CALSCALE:GREGORIAN
METHOD:PUBLISH
X-ORIGINAL-URL:https://www.quincieux.fr
X-WR-CALDESC:Évènements pour Mairie de Quincieux
REFRESH-INTERVAL;VALUE=DURATION:PT1H
X-Robots-Tag:noindex
X-PUBLISHED-TTL:PT1H
BEGIN:VTIMEZONE
TZID:Europe/Paris
BEGIN:DAYLIGHT
TZOFFSETFROM:+0100
TZOFFSETTO:+0200
TZNAME:CEST
DTSTART:20220327T010000
END:DAYLIGHT
BEGIN:STANDARD
TZOFFSETFROM:+0200
TZOFFSETTO:+0100
TZNAME:CET
DTSTART:20221030T010000
END:STANDARD
BEGIN:DAYLIGHT
TZOFFSETFROM:+0100
TZOFFSETTO:+0200
TZNAME:CEST
DTSTART:20230326T010000
END:DAYLIGHT
BEGIN:STANDARD
TZOFFSETFROM:+0200
TZOFFSETTO:+0100
TZNAME:CET
DTSTART:20231029T010000
END:STANDARD
BEGIN:DAYLIGHT
TZOFFSETFROM:+0100
TZOFFSETTO:+0200
TZNAME:CEST
DTSTART:20240331T010000
END:DAYLIGHT
BEGIN:STANDARD
TZOFFSETFROM:+0200
TZOFFSETTO:+0100
TZNAME:CET
DTSTART:20241027T010000
END:STANDARD
END:VTIMEZONE
BEGIN:VEVENT
DTSTART;TZID=Europe/Paris:20231027T143000
DTEND;TZID=Europe/Paris:20231027T170000
DTSTAMP:20260425T030224
CREATED:20231012T082519Z
LAST-MODIFIED:20231012T082631Z
UID:33973-1698417000-1698426000@www.quincieux.fr
SUMMARY:Atelier Sciences et Cinéma à la Médiathèque
DESCRIPTION:En octobre la médiathèque ESQALE fait un clin d’œil au Festival Lumière \nNous vous proposons : \n\nUn atelier "Sciences et cinéma" \n\n          Le mercredi 25 octobre à 14h30 - durée 1h30\nA partir de 11 ans. \net .... séance supplémentaire\, \n          Le vendredi 27 octobre à 14h30 - durée 1h30\npour les 7-10ans. \nAteliers Gratuit – Sur inscription  \n\nUne table thématique : cinéma\n\n         Livres et dvd\, à emprunter\nBD cinéma\, à consulter sur place \nDu 14 au 22 octobre\, le Festival Lumière rayonne dans les salles de cinéma de Lyon et de sa Métropole. \nUn rendez-vous mondial dédié au cinéma classique dans la ville natale du cinématographe Lumière. \nCette année\, pour la 15è édition\, c'est Wim Wenders qui recevra le Prix Lumière. \nLe programme\, est en ligne ici : alors ... Prenez date ! \nSur le territoire\, plus de 450 séances : Des films\, des conférences\, des masters class\, ciné-concerts à l'auditorium\, des copies restaurées\, des documentaires inédits\, des films cultes\, des séances de cinéma géantes ... Présentés par des actrices\, des acteurs\, des cinéastes\, des critiques de cinéma ... \nPoussez les portes des cinémas de la Métropole\, de l'auditorium de Lyon\, installez-vous et appréciez ces moments ! \nVoici un florilège de capsules vidéo en format court pour petits et grands ! \nPour les grands : \nBlow up : l'actualité du cinéma (ou presque) ! par Arte  \nLa déclinaison des sujets est infinie ... En voici un aperçu \nWim Wenders en 10 minutes \nLe violet au cinéma \nLes chats au cinéma \nJames Bond en musique   \nPour les petits et ... grands : \nImages Doc (le site) (Revue disponible à la médiathèque) \nQui a inventé le cinéma - les frères Lumières (15/05/2021) \nLumni (le site) La revue « 1jour1actu » est disponible à la médiathèque  \nQui a inventé le cinéma ? 1jour1question (16/07/2021) \nC'est qui James Bond ? 1jour1question (18/11/2020) \nC’est qui Charlie Chaplin ? 1jour1question (16/06/2017) \nI love english kids (Revue disponible à la médiathèque) \nN°235 feb 2022 / les héros (Harry Potter\, James Bond ...) \nN°246 feb 2023 / Harry Potter les studios
URL:https://www.quincieux.fr/event/atelier-sciences-et-cinema-a-la-mediatheque/
LOCATION:Médiathèque Esqale\, Chemin Saint Laurent\, Quincieux
CATEGORIES:Culture
END:VEVENT
BEGIN:VEVENT
DTSTART;TZID=Europe/Paris:20231027T203000
DTEND;TZID=Europe/Paris:20231027T233000
DTSTAMP:20260425T030224
CREATED:20230901T152544Z
LAST-MODIFIED:20230901T153318Z
UID:33211-1698438600-1698449400@www.quincieux.fr
SUMMARY:Répétition publique
DESCRIPTION:
URL:https://www.quincieux.fr/event/repetition-publique/
LOCATION:Ecole de Musique\, Route de Chasselay
END:VEVENT
END:VCALENDAR