BEGIN:VCALENDAR
VERSION:2.0
PRODID:-//Mairie de Quincieux - ECPv6.15.18//NONSGML v1.0//EN
CALSCALE:GREGORIAN
METHOD:PUBLISH
X-ORIGINAL-URL:https://www.quincieux.fr
X-WR-CALDESC:Évènements pour Mairie de Quincieux
REFRESH-INTERVAL;VALUE=DURATION:PT1H
X-Robots-Tag:noindex
X-PUBLISHED-TTL:PT1H
BEGIN:VTIMEZONE
TZID:Europe/Paris
BEGIN:DAYLIGHT
TZOFFSETFROM:+0100
TZOFFSETTO:+0200
TZNAME:CEST
DTSTART:20220327T010000
END:DAYLIGHT
BEGIN:STANDARD
TZOFFSETFROM:+0200
TZOFFSETTO:+0100
TZNAME:CET
DTSTART:20221030T010000
END:STANDARD
BEGIN:DAYLIGHT
TZOFFSETFROM:+0100
TZOFFSETTO:+0200
TZNAME:CEST
DTSTART:20230326T010000
END:DAYLIGHT
BEGIN:STANDARD
TZOFFSETFROM:+0200
TZOFFSETTO:+0100
TZNAME:CET
DTSTART:20231029T010000
END:STANDARD
BEGIN:DAYLIGHT
TZOFFSETFROM:+0100
TZOFFSETTO:+0200
TZNAME:CEST
DTSTART:20240331T010000
END:DAYLIGHT
BEGIN:STANDARD
TZOFFSETFROM:+0200
TZOFFSETTO:+0100
TZNAME:CET
DTSTART:20241027T010000
END:STANDARD
END:VTIMEZONE
BEGIN:VEVENT
DTSTART;TZID=Europe/Paris:20231021T080000
DTEND;TZID=Europe/Paris:20231021T123000
DTSTAMP:20260425T025641
CREATED:20230413T211254Z
LAST-MODIFIED:20231009T101906Z
UID:30815-1697875200-1697891400@www.quincieux.fr
SUMMARY:Je peux pas\, j'ai ALIGOT
DESCRIPTION:Une fois n'est pas coutume\, l'amicale des classes en 9 vous donne rendez vous place de l’Église pour sa traditionnelle vente d'avant Toussaint. \nCette année ils innovent ! Adieu le boudin\, et bonjour l’Aligot ! \nIls vous proposeront cette spécialité auvergnate accompagnée de ses rondelles de saucisses\, tout cela dans la bonne humeur autour d'un petit apéritif et pourquoi pas d'un fond musical.
URL:https://www.quincieux.fr/event/vente-festive/
CATEGORIES:Association
END:VEVENT
END:VCALENDAR