BEGIN:VCALENDAR
VERSION:2.0
PRODID:-//Mairie de Quincieux - ECPv6.15.18//NONSGML v1.0//EN
CALSCALE:GREGORIAN
METHOD:PUBLISH
X-WR-CALNAME:Mairie de Quincieux
X-ORIGINAL-URL:https://www.quincieux.fr
X-WR-CALDESC:Évènements pour Mairie de Quincieux
REFRESH-INTERVAL;VALUE=DURATION:PT1H
X-Robots-Tag:noindex
X-PUBLISHED-TTL:PT1H
BEGIN:VTIMEZONE
TZID:Europe/Paris
BEGIN:DAYLIGHT
TZOFFSETFROM:+0100
TZOFFSETTO:+0200
TZNAME:CEST
DTSTART:20220327T010000
END:DAYLIGHT
BEGIN:STANDARD
TZOFFSETFROM:+0200
TZOFFSETTO:+0100
TZNAME:CET
DTSTART:20221030T010000
END:STANDARD
BEGIN:DAYLIGHT
TZOFFSETFROM:+0100
TZOFFSETTO:+0200
TZNAME:CEST
DTSTART:20230326T010000
END:DAYLIGHT
BEGIN:STANDARD
TZOFFSETFROM:+0200
TZOFFSETTO:+0100
TZNAME:CET
DTSTART:20231029T010000
END:STANDARD
BEGIN:DAYLIGHT
TZOFFSETFROM:+0100
TZOFFSETTO:+0200
TZNAME:CEST
DTSTART:20240331T010000
END:DAYLIGHT
BEGIN:STANDARD
TZOFFSETFROM:+0200
TZOFFSETTO:+0100
TZNAME:CET
DTSTART:20241027T010000
END:STANDARD
END:VTIMEZONE
BEGIN:VEVENT
DTSTART;TZID=Europe/Paris:20231014T073000
DTEND;TZID=Europe/Paris:20231014T123000
DTSTAMP:20260425T025959
CREATED:20230929T134549Z
LAST-MODIFIED:20230929T134819Z
UID:33701-1697268600-1697286600@www.quincieux.fr
SUMMARY:Rencontre avec les élus sur le marché forain
DESCRIPTION:
URL:https://www.quincieux.fr/event/rencontre-avec-les-elus-sur-le-marche-forain-copy/
LOCATION:Sur le marché\, rue du Commerce
CATEGORIES:Municipalité
END:VEVENT
BEGIN:VEVENT
DTSTART;TZID=Europe/Paris:20231014T080000
DTEND;TZID=Europe/Paris:20231014T123000
DTSTAMP:20260425T025959
CREATED:20230929T134108Z
LAST-MODIFIED:20230929T134108Z
UID:33696-1697270400-1697286600@www.quincieux.fr
SUMMARY:Vente de samoussas et d'artisanat
DESCRIPTION:
URL:https://www.quincieux.fr/event/vente-de-samoussas-et-dartisanat/
END:VEVENT
BEGIN:VEVENT
DTSTART;TZID=Europe/Paris:20231014T103000
DTEND;TZID=Europe/Paris:20231014T113000
DTSTAMP:20260425T025959
CREATED:20231012T082903Z
LAST-MODIFIED:20231012T090738Z
UID:33978-1697279400-1697283000@www.quincieux.fr
SUMMARY:Séance spéciale "P'tites oreilles" à la Médiathèque ESQALE
DESCRIPTION:Dernière minute - Dernière minute - Dernière minute ! \n  \nSur le fil\, nous vous donnons rendez-vous samedi matin\, le 14 octobre à 10h30 \nPour une séance spéciale « P’tites oreilles » à partir de 4 ans \nAu plaisir de partager notre lessive avec vous !
URL:https://www.quincieux.fr/event/seance-speciale-ptites-oreilles-a-la-mediatheque-esqale/
LOCATION:Médiathèque Esqale\, Chemin Saint Laurent\, Quincieux
END:VEVENT
BEGIN:VEVENT
DTSTART;TZID=Europe/Paris:20231014T120000
DTEND;TZID=Europe/Paris:20231014T190000
DTSTAMP:20260425T025959
CREATED:20230413T210909Z
LAST-MODIFIED:20230929T133903Z
UID:30809-1697284800-1697310000@www.quincieux.fr
SUMMARY:Repas d'Automne
DESCRIPTION:
URL:https://www.quincieux.fr/event/repas-2/
LOCATION:Salle Yvonne Chemarin (MJC)
CATEGORIES:Association
END:VEVENT
BEGIN:VEVENT
DTSTART;TZID=Europe/Paris:20231014T150000
DTEND;TZID=Europe/Paris:20231014T180000
DTSTAMP:20260425T025959
CREATED:20230929T125432Z
LAST-MODIFIED:20230929T125927Z
UID:33673-1697295600-1697306400@www.quincieux.fr
SUMMARY:Risque d'inondation Val de Saone : Qui l'Eût crue ?
DESCRIPTION:Venez vivre une inondation fictive et poétique à Rochetaillée-sur-Saône. \nÊtes-vous équipé.es d'une radio à piles ? Savez-vous nager habillé.es ? Avez-vous déjà aperçu un renard hydraulique ? \nLe Samedi 14 octobre\, la Folie Kilomètre\, collectif de création en espace public\, propose de se mettre dans le bain d'une inondation fictive et poétique ! \nLe long d'un parcours ponctué d'installations plastiques\, de collages et de tableaux habités\, cette balade artistique questionne la place de l'eau qui traverse le paysage du val de Saône. \nEn amont\, des ateliers participatifs seront organisés les 11 et 12 octobre afin de préparer cette exploration. \nPlus d'informations et inscription : \n07 83 65 65 62 / lafoliekilometre@collectif.org \nlafoliekilometre.org
URL:https://www.quincieux.fr/event/risque-dinondation-val-de-saone-qui-leut-crue/
LOCATION:rochetaillée\, rochetaillée sur saône
CATEGORIES:Culture
END:VEVENT
END:VCALENDAR