BEGIN:VCALENDAR
VERSION:2.0
PRODID:-//Mairie de Quincieux - ECPv6.15.18//NONSGML v1.0//EN
CALSCALE:GREGORIAN
METHOD:PUBLISH
X-ORIGINAL-URL:https://www.quincieux.fr
X-WR-CALDESC:Évènements pour Mairie de Quincieux
REFRESH-INTERVAL;VALUE=DURATION:PT1H
X-Robots-Tag:noindex
X-PUBLISHED-TTL:PT1H
BEGIN:VTIMEZONE
TZID:Europe/Paris
BEGIN:DAYLIGHT
TZOFFSETFROM:+0100
TZOFFSETTO:+0200
TZNAME:CEST
DTSTART:20220327T010000
END:DAYLIGHT
BEGIN:STANDARD
TZOFFSETFROM:+0200
TZOFFSETTO:+0100
TZNAME:CET
DTSTART:20221030T010000
END:STANDARD
BEGIN:DAYLIGHT
TZOFFSETFROM:+0100
TZOFFSETTO:+0200
TZNAME:CEST
DTSTART:20230326T010000
END:DAYLIGHT
BEGIN:STANDARD
TZOFFSETFROM:+0200
TZOFFSETTO:+0100
TZNAME:CET
DTSTART:20231029T010000
END:STANDARD
BEGIN:DAYLIGHT
TZOFFSETFROM:+0100
TZOFFSETTO:+0200
TZNAME:CEST
DTSTART:20240331T010000
END:DAYLIGHT
BEGIN:STANDARD
TZOFFSETFROM:+0200
TZOFFSETTO:+0100
TZNAME:CET
DTSTART:20241027T010000
END:STANDARD
END:VTIMEZONE
BEGIN:VEVENT
DTSTART;TZID=Europe/Paris:20231007T080000
DTEND;TZID=Europe/Paris:20231007T130000
DTSTAMP:20260425T025353
CREATED:20230413T210758Z
LAST-MODIFIED:20230908T143710Z
UID:30807-1696665600-1696683600@www.quincieux.fr
SUMMARY:Vente de saucissons
DESCRIPTION:
URL:https://www.quincieux.fr/event/vente-de-saucissons/
CATEGORIES:Association
END:VEVENT
BEGIN:VEVENT
DTSTART;TZID=Europe/Paris:20231007T083000
DTEND;TZID=Europe/Paris:20231007T123000
DTSTAMP:20260425T025353
CREATED:20230901T132101Z
LAST-MODIFIED:20230901T132149Z
UID:33195-1696667400-1696681800@www.quincieux.fr
SUMMARY:Nettoyons notre commune
DESCRIPTION:
URL:https://www.quincieux.fr/event/nettoyons-notre-commune/
LOCATION:Centre technique + commune
ORGANIZER;CN="Municipalit%C3%A9":MAILTO:contact@quincieux.fr
END:VEVENT
END:VCALENDAR