BEGIN:VCALENDAR
VERSION:2.0
PRODID:-//Mairie de Quincieux - ECPv6.15.18//NONSGML v1.0//EN
CALSCALE:GREGORIAN
METHOD:PUBLISH
X-WR-CALNAME:Mairie de Quincieux
X-ORIGINAL-URL:https://www.quincieux.fr
X-WR-CALDESC:Évènements pour Mairie de Quincieux
REFRESH-INTERVAL;VALUE=DURATION:PT1H
X-Robots-Tag:noindex
X-PUBLISHED-TTL:PT1H
BEGIN:VTIMEZONE
TZID:Europe/Paris
BEGIN:DAYLIGHT
TZOFFSETFROM:+0100
TZOFFSETTO:+0200
TZNAME:CEST
DTSTART:20220327T010000
END:DAYLIGHT
BEGIN:STANDARD
TZOFFSETFROM:+0200
TZOFFSETTO:+0100
TZNAME:CET
DTSTART:20221030T010000
END:STANDARD
BEGIN:DAYLIGHT
TZOFFSETFROM:+0100
TZOFFSETTO:+0200
TZNAME:CEST
DTSTART:20230326T010000
END:DAYLIGHT
BEGIN:STANDARD
TZOFFSETFROM:+0200
TZOFFSETTO:+0100
TZNAME:CET
DTSTART:20231029T010000
END:STANDARD
BEGIN:DAYLIGHT
TZOFFSETFROM:+0100
TZOFFSETTO:+0200
TZNAME:CEST
DTSTART:20240331T010000
END:DAYLIGHT
BEGIN:STANDARD
TZOFFSETFROM:+0200
TZOFFSETTO:+0100
TZNAME:CET
DTSTART:20241027T010000
END:STANDARD
END:VTIMEZONE
BEGIN:VEVENT
DTSTART;TZID=Europe/Paris:20230315T000000
DTEND;TZID=Europe/Paris:20230315T235900
DTSTAMP:20260425T144843
CREATED:20230228T145135Z
LAST-MODIFIED:20230228T151926Z
UID:30027-1678838400-1678924740@www.quincieux.fr
SUMMARY:Médiathèque - Atelier : création d'un bol et cuisson
DESCRIPTION:A partir de 7 ans\nDurée 50 minutes\nséance au choix : 13h30\, 15h00 ou 16h30 \n 
URL:https://www.quincieux.fr/event/mediatheque-atelier-creation-dun-bol-et-cuisson/
END:VEVENT
END:VCALENDAR