BEGIN:VCALENDAR
VERSION:2.0
PRODID:-//Mairie de Quincieux - ECPv6.15.18//NONSGML v1.0//EN
CALSCALE:GREGORIAN
METHOD:PUBLISH
X-ORIGINAL-URL:https://www.quincieux.fr
X-WR-CALDESC:Évènements pour Mairie de Quincieux
REFRESH-INTERVAL;VALUE=DURATION:PT1H
X-Robots-Tag:noindex
X-PUBLISHED-TTL:PT1H
BEGIN:VTIMEZONE
TZID:Europe/Paris
BEGIN:DAYLIGHT
TZOFFSETFROM:+0100
TZOFFSETTO:+0200
TZNAME:CEST
DTSTART:20220327T010000
END:DAYLIGHT
BEGIN:STANDARD
TZOFFSETFROM:+0200
TZOFFSETTO:+0100
TZNAME:CET
DTSTART:20221030T010000
END:STANDARD
BEGIN:DAYLIGHT
TZOFFSETFROM:+0100
TZOFFSETTO:+0200
TZNAME:CEST
DTSTART:20230326T010000
END:DAYLIGHT
BEGIN:STANDARD
TZOFFSETFROM:+0200
TZOFFSETTO:+0100
TZNAME:CET
DTSTART:20231029T010000
END:STANDARD
BEGIN:DAYLIGHT
TZOFFSETFROM:+0100
TZOFFSETTO:+0200
TZNAME:CEST
DTSTART:20240331T010000
END:DAYLIGHT
BEGIN:STANDARD
TZOFFSETFROM:+0200
TZOFFSETTO:+0100
TZNAME:CET
DTSTART:20241027T010000
END:STANDARD
END:VTIMEZONE
BEGIN:VEVENT
DTSTART;TZID=Europe/Paris:20230308T080000
DTEND;TZID=Europe/Paris:20230308T170000
DTSTAMP:20260425T134259
CREATED:20230129T224903Z
LAST-MODIFIED:20230222T074345Z
UID:28890-1678262400-1678294800@www.quincieux.fr
SUMMARY:Tous en mars'elle ANNULÉ
DESCRIPTION:
URL:https://www.quincieux.fr/event/tous-en-marselle-la-grange-a-sons/
CATEGORIES:Association,Culture
END:VEVENT
BEGIN:VEVENT
DTSTART;TZID=Europe/Paris:20230308T180000
DTEND;TZID=Europe/Paris:20230308T193000
DTSTAMP:20260425T134259
CREATED:20230228T133123Z
LAST-MODIFIED:20230228T134458Z
UID:30013-1678298400-1678303800@www.quincieux.fr
SUMMARY:Journée internationale des droits des femmes : lectures inspirées...
DESCRIPTION:Le 8 mars\, le monde célèbre la journée internationale des femmes. C'est également le cas pour la médiathèque avec l'organisation de lectures de 18h à 19h30.\nEnfants\, ados\, adultes\, vous êtes les bienvenus pour partager ce moment. \nLe principe ? \nUn texte vous a touché : envie de le transmettre ? \n-Vous êtes disponible ce soir-là et vous souhaitez le lire\, parfait ! \n-Vous ne souhaitez pas le lire vous-même : aucun souci\, nous nous en chargerons volontiers \n-Vous n’êtes pas disponible\, dommage vous aviez pourtant un texte … N’hésitez pas à nous le communiquer (boite de retour\, par mail ou directement à la médiathèque)\, nous le lirons pour vous \nSur inscription
URL:https://www.quincieux.fr/event/journee-internationale-des-droits-des-femmes-lectures-inspirees/
CATEGORIES:Culture
END:VEVENT
END:VCALENDAR