BEGIN:VCALENDAR
VERSION:2.0
PRODID:-//Mairie de Quincieux - ECPv6.15.18//NONSGML v1.0//EN
CALSCALE:GREGORIAN
METHOD:PUBLISH
X-WR-CALNAME:Mairie de Quincieux
X-ORIGINAL-URL:https://www.quincieux.fr
X-WR-CALDESC:Évènements pour Mairie de Quincieux
REFRESH-INTERVAL;VALUE=DURATION:PT1H
X-Robots-Tag:noindex
X-PUBLISHED-TTL:PT1H
BEGIN:VTIMEZONE
TZID:Europe/Paris
BEGIN:DAYLIGHT
TZOFFSETFROM:+0100
TZOFFSETTO:+0200
TZNAME:CEST
DTSTART:20220327T010000
END:DAYLIGHT
BEGIN:STANDARD
TZOFFSETFROM:+0200
TZOFFSETTO:+0100
TZNAME:CET
DTSTART:20221030T010000
END:STANDARD
BEGIN:DAYLIGHT
TZOFFSETFROM:+0100
TZOFFSETTO:+0200
TZNAME:CEST
DTSTART:20230326T010000
END:DAYLIGHT
BEGIN:STANDARD
TZOFFSETFROM:+0200
TZOFFSETTO:+0100
TZNAME:CET
DTSTART:20231029T010000
END:STANDARD
BEGIN:DAYLIGHT
TZOFFSETFROM:+0100
TZOFFSETTO:+0200
TZNAME:CEST
DTSTART:20240331T010000
END:DAYLIGHT
BEGIN:STANDARD
TZOFFSETFROM:+0200
TZOFFSETTO:+0100
TZNAME:CET
DTSTART:20241027T010000
END:STANDARD
END:VTIMEZONE
BEGIN:VEVENT
DTSTART;TZID=Europe/Paris:20230304T083000
DTEND;TZID=Europe/Paris:20230304T140000
DTSTAMP:20260425T151520
CREATED:20230214T144624Z
LAST-MODIFIED:20230214T153944Z
UID:29610-1677918600-1677938400@www.quincieux.fr
SUMMARY:Vente de pot au feu
DESCRIPTION:
URL:https://www.quincieux.fr/event/vente-de-pot-au-feu/
CATEGORIES:Association
END:VEVENT
BEGIN:VEVENT
DTSTART;TZID=Europe/Paris:20230304T093000
DTEND;TZID=Europe/Paris:20230305T093000
DTSTAMP:20260425T151520
CREATED:20230129T223718Z
LAST-MODIFIED:20230216T161436Z
UID:28887-1677922200-1678008600@www.quincieux.fr
SUMMARY:Concours de boules Coupe Cellier Neuvillois
DESCRIPTION:
URL:https://www.quincieux.fr/event/concours-national-cellier-neuvillois-amicale-boule/
LOCATION:Boulodrome
CATEGORIES:Association,Sport
END:VEVENT
BEGIN:VEVENT
DTSTART;TZID=Europe/Paris:20230304T203000
DTEND;TZID=Europe/Paris:20230304T203000
DTSTAMP:20260425T151520
CREATED:20230129T222702Z
LAST-MODIFIED:20230220T125217Z
UID:28878-1677961800-1677961800@www.quincieux.fr
SUMMARY:Les Orchestrades
DESCRIPTION:Chaque année\, l’École de Musique de Quincieux (EMQ) accueille des orchestres amis afin de partager une soirée musicale. Cette année\,  l'harmonie de Saint-Cyr-au-Mont d'or et de Lyon 7ème seront présents pour cette soirée du 4 mars.
URL:https://www.quincieux.fr/event/les-orchestrades-ecole-de-musique/
LOCATION:Espace Maurice Plaisantin
CATEGORIES:Association
END:VEVENT
END:VCALENDAR