BEGIN:VCALENDAR
VERSION:2.0
PRODID:-//Mairie de Quincieux - ECPv6.15.18//NONSGML v1.0//EN
CALSCALE:GREGORIAN
METHOD:PUBLISH
X-ORIGINAL-URL:https://www.quincieux.fr
X-WR-CALDESC:Évènements pour Mairie de Quincieux
REFRESH-INTERVAL;VALUE=DURATION:PT1H
X-Robots-Tag:noindex
X-PUBLISHED-TTL:PT1H
BEGIN:VTIMEZONE
TZID:Europe/Paris
BEGIN:DAYLIGHT
TZOFFSETFROM:+0100
TZOFFSETTO:+0200
TZNAME:CEST
DTSTART:20220327T010000
END:DAYLIGHT
BEGIN:STANDARD
TZOFFSETFROM:+0200
TZOFFSETTO:+0100
TZNAME:CET
DTSTART:20221030T010000
END:STANDARD
BEGIN:DAYLIGHT
TZOFFSETFROM:+0100
TZOFFSETTO:+0200
TZNAME:CEST
DTSTART:20230326T010000
END:DAYLIGHT
BEGIN:STANDARD
TZOFFSETFROM:+0200
TZOFFSETTO:+0100
TZNAME:CET
DTSTART:20231029T010000
END:STANDARD
BEGIN:DAYLIGHT
TZOFFSETFROM:+0100
TZOFFSETTO:+0200
TZNAME:CEST
DTSTART:20240331T010000
END:DAYLIGHT
BEGIN:STANDARD
TZOFFSETFROM:+0200
TZOFFSETTO:+0100
TZNAME:CET
DTSTART:20241027T010000
END:STANDARD
END:VTIMEZONE
BEGIN:VEVENT
DTSTART;TZID=Europe/Paris:20230215T150000
DTEND;TZID=Europe/Paris:20230215T170000
DTSTAMP:20260425T155000
CREATED:20230209T110312Z
LAST-MODIFIED:20230209T110811Z
UID:29424-1676473200-1676480400@www.quincieux.fr
SUMMARY:Médiathèque\, 2 rendez-vous pour les plus jeunes
DESCRIPTION:
URL:https://www.quincieux.fr/event/mediatheque-le-rendez-vous-des-histoires/
CATEGORIES:Culture
END:VEVENT
END:VCALENDAR